BEGIN:VCALENDAR
VERSION:2.0
PRODID:-//The City of Selma Alabama - ECPv6.15.20//NONSGML v1.0//EN
CALSCALE:GREGORIAN
METHOD:PUBLISH
X-ORIGINAL-URL:https://selma-al.gov
X-WR-CALDESC:Events for The City of Selma Alabama
REFRESH-INTERVAL;VALUE=DURATION:PT1H
X-Robots-Tag:noindex
X-PUBLISHED-TTL:PT1H
BEGIN:VTIMEZONE
TZID:UTC
BEGIN:STANDARD
TZOFFSETFROM:+0000
TZOFFSETTO:+0000
TZNAME:UTC
DTSTART:20240101T000000
END:STANDARD
END:VTIMEZONE
BEGIN:VEVENT
DTSTART;TZID=UTC:20251009T180000
DTEND;TZID=UTC:20251009T180000
DTSTAMP:20260424T100418
CREATED:20220804T150503Z
LAST-MODIFIED:20220804T150503Z
UID:15117-1760032800-1760032800@selma-al.gov
SUMMARY:City Council Work Sessions
DESCRIPTION:City Council Work Sessions are held every Thursday before the Tuesday Council Meetings.
URL:https://selma-al.gov/event/city-council-work-sessions/2025-10-09/
LOCATION:City Hall\, 222 Broad St\, Selma\, Alabama\, 36701
CATEGORIES:City Council Meetings
ATTACH;FMTTYPE=image/jpeg:https://selma-al.gov/wp-content/uploads/2021/11/cityHall.jpg
END:VEVENT
BEGIN:VEVENT
DTSTART;TZID=UTC:20251014T180000
DTEND;TZID=UTC:20251014T180000
DTSTAMP:20260424T100418
CREATED:20220805T175630Z
LAST-MODIFIED:20220805T175630Z
UID:15167-1760464800-1760464800@selma-al.gov
SUMMARY:City Council Meetings
DESCRIPTION:City Council Meetings are held on the 2nd and 4th Tuesday of the month.
URL:https://selma-al.gov/event/city-council-meetings/2025-10-14/
LOCATION:City Hall\, 222 Broad St\, Selma\, Alabama\, 36701
CATEGORIES:City Council Meetings
ATTACH;FMTTYPE=image/jpeg:https://selma-al.gov/wp-content/uploads/2021/11/cityHall.jpg
END:VEVENT
BEGIN:VEVENT
DTSTART;TZID=UTC:20251023T180000
DTEND;TZID=UTC:20251023T180000
DTSTAMP:20260424T100418
CREATED:20220804T150503Z
LAST-MODIFIED:20220804T150503Z
UID:15236-1761242400-1761242400@selma-al.gov
SUMMARY:City Council Work Sessions
DESCRIPTION:City Council Work Sessions are held every Thursday before the Tuesday Council Meetings.
URL:https://selma-al.gov/event/city-council-work-sessions/2025-10-23/
LOCATION:City Hall\, 222 Broad St\, Selma\, Alabama\, 36701
CATEGORIES:City Council Meetings
ATTACH;FMTTYPE=image/jpeg:https://selma-al.gov/wp-content/uploads/2021/11/cityHall.jpg
END:VEVENT
BEGIN:VEVENT
DTSTART;VALUE=DATE:20251026
DTEND;VALUE=DATE:20251027
DTSTAMP:20260424T100418
CREATED:20250626T165820Z
LAST-MODIFIED:20250626T170247Z
UID:19339-1761436800-1761523199@selma-al.gov
SUMMARY:2025 List of Candidates Qualified For Office – Municipal Election to be Held on August 26th\, 2025
DESCRIPTION:
URL:https://selma-al.gov/event/2025-list-of-candidates-qualified-for-office-municipal-election-to-be-held-on-august-26th-2025/
CATEGORIES:City Council Meetings,City of Selma Events,Municipal Court Schedule
ATTACH;FMTTYPE=image/png:https://selma-al.gov/wp-content/uploads/2021/10/SELMA_NEW_logo-with-border.png
END:VEVENT
BEGIN:VEVENT
DTSTART;TZID=UTC:20251028T180000
DTEND;TZID=UTC:20251028T180000
DTSTAMP:20260424T100418
CREATED:20220805T175630Z
LAST-MODIFIED:20220805T175630Z
UID:15237-1761674400-1761674400@selma-al.gov
SUMMARY:City Council Meetings
DESCRIPTION:City Council Meetings are held on the 2nd and 4th Tuesday of the month.
URL:https://selma-al.gov/event/city-council-meetings/2025-10-28/
LOCATION:City Hall\, 222 Broad St\, Selma\, Alabama\, 36701
CATEGORIES:City Council Meetings
ATTACH;FMTTYPE=image/jpeg:https://selma-al.gov/wp-content/uploads/2021/11/cityHall.jpg
END:VEVENT
END:VCALENDAR