BEGIN:VCALENDAR
VERSION:2.0
PRODID:-//The City of Selma Alabama - ECPv6.15.20//NONSGML v1.0//EN
CALSCALE:GREGORIAN
METHOD:PUBLISH
X-WR-CALNAME:The City of Selma Alabama
X-ORIGINAL-URL:https://selma-al.gov
X-WR-CALDESC:Events for The City of Selma Alabama
REFRESH-INTERVAL;VALUE=DURATION:PT1H
X-Robots-Tag:noindex
X-PUBLISHED-TTL:PT1H
BEGIN:VTIMEZONE
TZID:UTC
BEGIN:STANDARD
TZOFFSETFROM:+0000
TZOFFSETTO:+0000
TZNAME:UTC
DTSTART:20210101T000000
END:STANDARD
END:VTIMEZONE
BEGIN:VEVENT
DTSTART;TZID=UTC:20221031T150000
DTEND;TZID=UTC:20221031T170000
DTSTAMP:20260424T205920
CREATED:20220805T185057Z
LAST-MODIFIED:20221020T152216Z
UID:10676-1667228400-1667235600@selma-al.gov
SUMMARY:2022 Monster March Oct 31st
DESCRIPTION:
URL:https://selma-al.gov/event/2022-monster-march-oct-31st/
LOCATION:Selma Dallas County Public Library\, 1103 Selma Ave\, Selma\, 36703\, United States
CATEGORIES:City of Selma Events
ATTACH;FMTTYPE=application/pdf:https://selma-al.gov/wp-content/uploads/2022/08/10-2022-monster-march.pdf
END:VEVENT
END:VCALENDAR