BEGIN:VCALENDAR
VERSION:2.0
PRODID:-//The City of Selma Alabama - ECPv6.15.20//NONSGML v1.0//EN
CALSCALE:GREGORIAN
METHOD:PUBLISH
X-WR-CALNAME:The City of Selma Alabama
X-ORIGINAL-URL:https://selma-al.gov
X-WR-CALDESC:Events for The City of Selma Alabama
REFRESH-INTERVAL;VALUE=DURATION:PT1H
X-Robots-Tag:noindex
X-PUBLISHED-TTL:PT1H
BEGIN:VTIMEZONE
TZID:UTC
BEGIN:STANDARD
TZOFFSETFROM:+0000
TZOFFSETTO:+0000
TZNAME:UTC
DTSTART:20240101T000000
END:STANDARD
END:VTIMEZONE
BEGIN:VEVENT
DTSTART;VALUE=DATE:20250826
DTEND;VALUE=DATE:20250827
DTSTAMP:20260422T042247
CREATED:20250626T170612Z
LAST-MODIFIED:20250722T134842Z
UID:19342-1756166400-1756252799@selma-al.gov
SUMMARY:2025 List of Candidates Qualified For Office – Municipal Election to be Held on August 26th\, 2025
DESCRIPTION:Candidates for Mayor \n\n\n\nMayor James Perkins\, Jr.\nRev. Jarmal J. Sanders\, Mayor\nAttorney Michael Jackson\, Mayor\nMs. Ronita R. Wade\, Mayor\nMr. Aaron Roper\, Mayor\nMr. Johnny E. Moss\, Ill\, Mayor\nMs. Temekia Sykes\, Mayor\nMr. George McDonald\, Mayor (Withdrew\, Effective: June 27\, 2025)\nMr. Thayer H. Spencer\, Mayor (Withdrew\, Effective: June 27\, 2025)\n\n\n\nBelow is a complete list of candidates for Office in August 26\, 2025 Municipal Election\n \nCandidates for City Council President: \n\nMr. Kennard Randolph\, Council President\nCouncil President Warren “Billy” Young\n\nCandidates for Ward 1: \n\nMr. Charles Bennett\, Council\, Ward 1\nMs. Felicia King-Thomas\, Council\, Ward 1\nCouncilman Troy Harvill\, Ward 1\n\nCandidates for Ward 2: \n\nMr. Otto Hunter\, Council\, Ward 2\nCouncilwoman Christie Thomas\, Ward 2\nMr. Trebor J. Dukes\, Council\, Ward 2\n\nCandidates for Ward 3: \n\nMr. Collins Pettaway\, Ill\, Council\, Ward 3\nCouncilman Clay Carmichael\, Ward 3\n\nCandidates for Ward 4: \n\nCouncilwoman Lesia S. James\, Ward 4\n\nCandidates for Ward 5:  \n\nMr. Timfreit Drane\, Council\, Ward 5\nMs. Queen V. lmani\, Council\, Ward 5\nMs. Mariama DeRamus\, Council\, Ward 5\nMs. Nadine S. Sturdivant\, Council\, Ward 5\nMr. Curtis C. Wimberly\, Council\, Ward 5\n\nCandidates for Ward 6: \n\nMrs. Sharon C. Taylor\, Council\, Ward 6\nCouncilman Atkin Jemison\, Ward 6\nMs. Erica A. Day\, Council\, Ward 6\nMs. Ashley Ervin\, Council\, Ward 6\n\nCandidates for Ward 7: \n\nCouncilwoman Jannie Thomas\, Ward 7\nMr. Demonte’ Purifoy\, Council\, Ward 7\n\nCandidates for Ward 8: \n\nCouncilman Michael Johnson\, Ward 8\n\nCandidate for School Board President: \n\nMrs. Cicely N. Curtis\, Sch. Bd. President\nPastor LaBarron Mack\, Sch. Bd. President\n\nCandidate for School Board Memb.\,: \n\nMs. Audrey L. Strong\, Sch. Bd. Memb.\, Dist. 1\nMs. Brenda R. Obomanu\, Sch. Bd. Memb.\, Dist. 2\nMrs. Tammy S. Maul\, Sch. Bd. Memb.\, Dist. 3\nMs. Kimesha Alvarado\, Sch. Bd. Memb.\, Dist. 3\nDr. Tanya S. Miles\, Sch. Bd. Memb.\, Dist. 4\nMs. Brittney S. Houser\, Sch. Bd. Memb.\, Dist. 4\nRev. Dexter W. Patterson\, Sch. Bd. Memb.\, Dist. 4
URL:https://selma-al.gov/event/2025-list-of-candidates-qualified-for-office-municipal-election-to-be-held-on-august-26th-2025-2/
CATEGORIES:City of Selma Events
ATTACH;FMTTYPE=image/png:https://selma-al.gov/wp-content/uploads/2022/02/COS_NEW_logo.png
END:VEVENT
END:VCALENDAR