BEGIN:VCALENDAR
VERSION:2.0
PRODID:-//The City of Selma Alabama - ECPv6.15.20//NONSGML v1.0//EN
CALSCALE:GREGORIAN
METHOD:PUBLISH
X-ORIGINAL-URL:https://selma-al.gov
X-WR-CALDESC:Events for The City of Selma Alabama
REFRESH-INTERVAL;VALUE=DURATION:PT1H
X-Robots-Tag:noindex
X-PUBLISHED-TTL:PT1H
BEGIN:VTIMEZONE
TZID:UTC
BEGIN:STANDARD
TZOFFSETFROM:+0000
TZOFFSETTO:+0000
TZNAME:UTC
DTSTART:20240101T000000
END:STANDARD
END:VTIMEZONE
BEGIN:VEVENT
DTSTART;VALUE=DATE:20251026
DTEND;VALUE=DATE:20251027
DTSTAMP:20260422T010648
CREATED:20250626T165820Z
LAST-MODIFIED:20250626T170247Z
UID:19339-1761436800-1761523199@selma-al.gov
SUMMARY:2025 List of Candidates Qualified For Office – Municipal Election to be Held on August 26th\, 2025
DESCRIPTION:
URL:https://selma-al.gov/event/2025-list-of-candidates-qualified-for-office-municipal-election-to-be-held-on-august-26th-2025/
CATEGORIES:City Council Meetings,City of Selma Events,Municipal Court Schedule
ATTACH;FMTTYPE=image/png:https://selma-al.gov/wp-content/uploads/2021/10/SELMA_NEW_logo-with-border.png
END:VEVENT
END:VCALENDAR