BEGIN:VCALENDAR
VERSION:2.0
PRODID:-//The City of Selma Alabama - ECPv6.15.20//NONSGML v1.0//EN
CALSCALE:GREGORIAN
METHOD:PUBLISH
X-WR-CALNAME:The City of Selma Alabama
X-ORIGINAL-URL:https://selma-al.gov
X-WR-CALDESC:Events for The City of Selma Alabama
REFRESH-INTERVAL;VALUE=DURATION:PT1H
X-Robots-Tag:noindex
X-PUBLISHED-TTL:PT1H
BEGIN:VTIMEZONE
TZID:UTC
BEGIN:STANDARD
TZOFFSETFROM:+0000
TZOFFSETTO:+0000
TZNAME:UTC
DTSTART:20210101T000000
END:STANDARD
END:VTIMEZONE
BEGIN:VEVENT
DTSTART;VALUE=DATE:20251026
DTEND;VALUE=DATE:20251027
DTSTAMP:20260422T055003
CREATED:20250626T165820Z
LAST-MODIFIED:20250626T170247Z
UID:19339-1761436800-1761523199@selma-al.gov
SUMMARY:2025 List of Candidates Qualified For Office – Municipal Election to be Held on August 26th\, 2025
DESCRIPTION:
URL:https://selma-al.gov/event/2025-list-of-candidates-qualified-for-office-municipal-election-to-be-held-on-august-26th-2025/
CATEGORIES:City Council Meetings,City of Selma Events,Municipal Court Schedule
ATTACH;FMTTYPE=image/png:https://selma-al.gov/wp-content/uploads/2021/10/SELMA_NEW_logo-with-border.png
END:VEVENT
BEGIN:VEVENT
DTSTART;VALUE=DATE:20221222
DTEND;VALUE=DATE:20221223
DTSTAMP:20260422T055003
CREATED:20220804T212807Z
LAST-MODIFIED:20220812T182606Z
UID:9878-1671667200-1671753599@selma-al.gov
SUMMARY:Selma Municipal Court: 9:30am
DESCRIPTION:
URL:https://selma-al.gov/event/selma-municipal-court-2022-18/
CATEGORIES:Municipal Court Schedule
ATTACH;FMTTYPE=image/jpeg:https://selma-al.gov/wp-content/uploads/2022/08/Municipal-COurt1.jpeg
END:VEVENT
BEGIN:VEVENT
DTSTART;VALUE=DATE:20221214
DTEND;VALUE=DATE:20221215
DTSTAMP:20260422T055003
CREATED:20220804T212730Z
LAST-MODIFIED:20220812T182616Z
UID:9876-1670976000-1671062399@selma-al.gov
SUMMARY:Selma Municipal Court 9:30am
DESCRIPTION:
URL:https://selma-al.gov/event/selma-municipal-court-2022-17/
CATEGORIES:Municipal Court Schedule
ATTACH;FMTTYPE=image/jpeg:https://selma-al.gov/wp-content/uploads/2022/08/Municipal-COurt1.jpeg
END:VEVENT
BEGIN:VEVENT
DTSTART;VALUE=DATE:20221208
DTEND;VALUE=DATE:20221209
DTSTAMP:20260422T055003
CREATED:20220804T212659Z
LAST-MODIFIED:20220812T182633Z
UID:9874-1670457600-1670543999@selma-al.gov
SUMMARY:Selma Municipal Court: 9:30am
DESCRIPTION:
URL:https://selma-al.gov/event/selma-municipal-court-2022-16/
CATEGORIES:Municipal Court Schedule
ATTACH;FMTTYPE=image/jpeg:https://selma-al.gov/wp-content/uploads/2022/08/Municipal-COurt1.jpeg
END:VEVENT
BEGIN:VEVENT
DTSTART;TZID=UTC:20221130T130000
DTEND;TZID=UTC:20221130T140000
DTSTAMP:20260422T055003
CREATED:20220804T212559Z
LAST-MODIFIED:20220812T182705Z
UID:9872-1669813200-1669816800@selma-al.gov
SUMMARY:Selma Municipal Court: 1:00 pm
DESCRIPTION:
URL:https://selma-al.gov/event/selma-municipal-court-2022-15/
CATEGORIES:Municipal Court Schedule
ATTACH;FMTTYPE=image/jpeg:https://selma-al.gov/wp-content/uploads/2022/08/Municipal-COurt1.jpeg
END:VEVENT
BEGIN:VEVENT
DTSTART;VALUE=DATE:20221117
DTEND;VALUE=DATE:20221118
DTSTAMP:20260422T055003
CREATED:20220804T212531Z
LAST-MODIFIED:20220812T182726Z
UID:9870-1668643200-1668729599@selma-al.gov
SUMMARY:Selma Municipal Court: 9:30am
DESCRIPTION:
URL:https://selma-al.gov/event/selma-municipal-court-2022-14/
CATEGORIES:Municipal Court Schedule
ATTACH;FMTTYPE=image/jpeg:https://selma-al.gov/wp-content/uploads/2022/08/Municipal-COurt1.jpeg
END:VEVENT
BEGIN:VEVENT
DTSTART;VALUE=DATE:20221114
DTEND;VALUE=DATE:20221115
DTSTAMP:20260422T055003
CREATED:20220804T212458Z
LAST-MODIFIED:20220812T182746Z
UID:9868-1668384000-1668470399@selma-al.gov
SUMMARY:Selma Municipal Court: 1:00pm
DESCRIPTION:
URL:https://selma-al.gov/event/selma-municipal-court-2022-13/
CATEGORIES:Municipal Court Schedule
ATTACH;FMTTYPE=image/jpeg:https://selma-al.gov/wp-content/uploads/2022/08/Municipal-COurt1.jpeg
END:VEVENT
BEGIN:VEVENT
DTSTART;VALUE=DATE:20221103
DTEND;VALUE=DATE:20221104
DTSTAMP:20260422T055003
CREATED:20220804T212423Z
LAST-MODIFIED:20220812T182801Z
UID:9866-1667433600-1667519999@selma-al.gov
SUMMARY:Selma Municipal Court: 9:30am
DESCRIPTION:
URL:https://selma-al.gov/event/selma-municipal-court-2022-12/
CATEGORIES:Municipal Court Schedule
ATTACH;FMTTYPE=image/jpeg:https://selma-al.gov/wp-content/uploads/2022/08/Municipal-COurt1.jpeg
END:VEVENT
BEGIN:VEVENT
DTSTART;VALUE=DATE:20221026
DTEND;VALUE=DATE:20221027
DTSTAMP:20260422T055003
CREATED:20220804T212315Z
LAST-MODIFIED:20220812T182821Z
UID:9864-1666742400-1666828799@selma-al.gov
SUMMARY:Selma Municipal Court: 1:00pm
DESCRIPTION:
URL:https://selma-al.gov/event/selma-municipal-court-2022-11/
CATEGORIES:Municipal Court Schedule
ATTACH;FMTTYPE=image/jpeg:https://selma-al.gov/wp-content/uploads/2022/08/Municipal-COurt1.jpeg
END:VEVENT
BEGIN:VEVENT
DTSTART;VALUE=DATE:20221020
DTEND;VALUE=DATE:20221021
DTSTAMP:20260422T055003
CREATED:20220804T212238Z
LAST-MODIFIED:20220812T182834Z
UID:9862-1666224000-1666310399@selma-al.gov
SUMMARY:Selma Municipal Court: 9:30am
DESCRIPTION:
URL:https://selma-al.gov/event/selma-municipal-court-2022-10/
CATEGORIES:Municipal Court Schedule
ATTACH;FMTTYPE=image/jpeg:https://selma-al.gov/wp-content/uploads/2022/08/Municipal-COurt1.jpeg
END:VEVENT
BEGIN:VEVENT
DTSTART;VALUE=DATE:20221012
DTEND;VALUE=DATE:20221013
DTSTAMP:20260422T055003
CREATED:20220804T212148Z
LAST-MODIFIED:20220812T183216Z
UID:9860-1665532800-1665619199@selma-al.gov
SUMMARY:Selma Municipal Court: 1:00pm
DESCRIPTION:
URL:https://selma-al.gov/event/selma-municipal-court-2022-9/
CATEGORIES:Municipal Court Schedule
ATTACH;FMTTYPE=image/jpeg:https://selma-al.gov/wp-content/uploads/2022/08/Municipal-COurt1.jpeg
END:VEVENT
BEGIN:VEVENT
DTSTART;VALUE=DATE:20221006
DTEND;VALUE=DATE:20221007
DTSTAMP:20260422T055003
CREATED:20220804T212046Z
LAST-MODIFIED:20220812T182857Z
UID:9858-1665014400-1665100799@selma-al.gov
SUMMARY:Selma Municipal Court: 9:30am
DESCRIPTION:
URL:https://selma-al.gov/event/selma-municipal-court-2022-8/
CATEGORIES:Municipal Court Schedule
ATTACH;FMTTYPE=image/jpeg:https://selma-al.gov/wp-content/uploads/2022/08/Municipal-COurt1.jpeg
END:VEVENT
BEGIN:VEVENT
DTSTART;VALUE=DATE:20220928
DTEND;VALUE=DATE:20220929
DTSTAMP:20260422T055003
CREATED:20220804T211925Z
LAST-MODIFIED:20220812T183202Z
UID:9856-1664323200-1664409599@selma-al.gov
SUMMARY:Selma Municipal Court: 1:00pm
DESCRIPTION:
URL:https://selma-al.gov/event/selma-municipal-court-2022-7/
CATEGORIES:Municipal Court Schedule
ATTACH;FMTTYPE=image/jpeg:https://selma-al.gov/wp-content/uploads/2022/08/Municipal-COurt1.jpeg
END:VEVENT
BEGIN:VEVENT
DTSTART;VALUE=DATE:20220922
DTEND;VALUE=DATE:20220923
DTSTAMP:20260422T055003
CREATED:20220804T211849Z
LAST-MODIFIED:20220812T182914Z
UID:9854-1663804800-1663891199@selma-al.gov
SUMMARY:Selma Municipal Court: 9:30am
DESCRIPTION:
URL:https://selma-al.gov/event/selma-municipal-court-2022-6/
CATEGORIES:Municipal Court Schedule
ATTACH;FMTTYPE=image/jpeg:https://selma-al.gov/wp-content/uploads/2022/08/Municipal-COurt1.jpeg
END:VEVENT
BEGIN:VEVENT
DTSTART;VALUE=DATE:20220914
DTEND;VALUE=DATE:20220915
DTSTAMP:20260422T055003
CREATED:20220804T211750Z
LAST-MODIFIED:20220812T183138Z
UID:9852-1663113600-1663199999@selma-al.gov
SUMMARY:Selma Municipal Court: 1:00pm
DESCRIPTION:
URL:https://selma-al.gov/event/selma-municipal-court-2022-5/
CATEGORIES:Municipal Court Schedule
ATTACH;FMTTYPE=image/jpeg:https://selma-al.gov/wp-content/uploads/2022/08/Municipal-COurt1.jpeg
END:VEVENT
BEGIN:VEVENT
DTSTART;VALUE=DATE:20220901
DTEND;VALUE=DATE:20220902
DTSTAMP:20260422T055003
CREATED:20220804T211701Z
LAST-MODIFIED:20220812T182935Z
UID:9850-1661990400-1662076799@selma-al.gov
SUMMARY:Selma Municipal Court: 9:30am
DESCRIPTION:
URL:https://selma-al.gov/event/selma-municipal-court-2022-4/
CATEGORIES:Municipal Court Schedule
ATTACH;FMTTYPE=image/jpeg:https://selma-al.gov/wp-content/uploads/2022/08/Municipal-COurt1.jpeg
END:VEVENT
BEGIN:VEVENT
DTSTART;VALUE=DATE:20220824
DTEND;VALUE=DATE:20220825
DTSTAMP:20260422T055003
CREATED:20220804T211358Z
LAST-MODIFIED:20220812T183123Z
UID:9848-1661299200-1661385599@selma-al.gov
SUMMARY:Selma Municipal Court: 1:00pm
DESCRIPTION:
URL:https://selma-al.gov/event/selma-municipal-court-2022-3/
CATEGORIES:Municipal Court Schedule
ATTACH;FMTTYPE=image/jpeg:https://selma-al.gov/wp-content/uploads/2022/08/Municipal-COurt1.jpeg
END:VEVENT
BEGIN:VEVENT
DTSTART;VALUE=DATE:20220818
DTEND;VALUE=DATE:20220819
DTSTAMP:20260422T055003
CREATED:20220804T211239Z
LAST-MODIFIED:20220812T182956Z
UID:9846-1660780800-1660867199@selma-al.gov
SUMMARY:Selma Municipal Court: 9:30am
DESCRIPTION:
URL:https://selma-al.gov/event/selma-municipal-court-2022-2/
CATEGORIES:Municipal Court Schedule
ATTACH;FMTTYPE=image/jpeg:https://selma-al.gov/wp-content/uploads/2022/08/Municipal-COurt1.jpeg
END:VEVENT
BEGIN:VEVENT
DTSTART;VALUE=DATE:20220810
DTEND;VALUE=DATE:20220811
DTSTAMP:20260422T055003
CREATED:20220804T211123Z
LAST-MODIFIED:20220812T183108Z
UID:9844-1660089600-1660175999@selma-al.gov
SUMMARY:Selma Municipal Court: 1:00pm
DESCRIPTION:
URL:https://selma-al.gov/event/selma-municipal-court-2022/
CATEGORIES:Municipal Court Schedule
ATTACH;FMTTYPE=image/jpeg:https://selma-al.gov/wp-content/uploads/2022/08/Municipal-COurt1.jpeg
END:VEVENT
BEGIN:VEVENT
DTSTART;VALUE=DATE:20220804
DTEND;VALUE=DATE:20220805
DTSTAMP:20260422T055003
CREATED:20220810T210621Z
LAST-MODIFIED:20220812T182552Z
UID:9838-1659571200-1659657599@selma-al.gov
SUMMARY:Selma Municipal Court: 9:30am
DESCRIPTION:
URL:https://selma-al.gov/event/selma-municipal-court-2022-court/
CATEGORIES:Municipal Court Schedule
ATTACH;FMTTYPE=image/jpeg:https://selma-al.gov/wp-content/uploads/2022/08/Municipal-COurt1.jpeg
END:VEVENT
END:VCALENDAR