BEGIN:VCALENDAR
VERSION:2.0
PRODID:-//The City of Selma Alabama - ECPv6.15.20//NONSGML v1.0//EN
CALSCALE:GREGORIAN
METHOD:PUBLISH
X-WR-CALNAME:The City of Selma Alabama
X-ORIGINAL-URL:https://selma-al.gov
X-WR-CALDESC:Events for The City of Selma Alabama
REFRESH-INTERVAL;VALUE=DURATION:PT1H
X-Robots-Tag:noindex
X-PUBLISHED-TTL:PT1H
BEGIN:VTIMEZONE
TZID:UTC
BEGIN:STANDARD
TZOFFSETFROM:+0000
TZOFFSETTO:+0000
TZNAME:UTC
DTSTART:20240101T000000
END:STANDARD
END:VTIMEZONE
BEGIN:VEVENT
DTSTART;TZID=UTC:20260414T180000
DTEND;TZID=UTC:20260414T180000
DTSTAMP:20260421T032338
CREATED:20220805T175630Z
LAST-MODIFIED:20220805T175630Z
UID:15958-1776189600-1776189600@selma-al.gov
SUMMARY:City Council Meetings
DESCRIPTION:City Council Meetings are held on the 2nd and 4th Tuesday of the month.
URL:https://selma-al.gov/event/city-council-meetings/2026-04-14/
LOCATION:City Hall\, 222 Broad St\, Selma\, Alabama\, 36701
CATEGORIES:City Council Meetings
ATTACH;FMTTYPE=image/jpeg:https://selma-al.gov/wp-content/uploads/2021/11/cityHall.jpg
END:VEVENT
BEGIN:VEVENT
DTSTART;TZID=UTC:20260409T180000
DTEND;TZID=UTC:20260409T180000
DTSTAMP:20260421T032338
CREATED:20220804T150503Z
LAST-MODIFIED:20220804T150503Z
UID:15957-1775757600-1775757600@selma-al.gov
SUMMARY:City Council Work Sessions
DESCRIPTION:City Council Work Sessions are held every Thursday before the Tuesday Council Meetings.
URL:https://selma-al.gov/event/city-council-work-sessions/2026-04-09/
LOCATION:City Hall\, 222 Broad St\, Selma\, Alabama\, 36701
CATEGORIES:City Council Meetings
ATTACH;FMTTYPE=image/jpeg:https://selma-al.gov/wp-content/uploads/2021/11/cityHall.jpg
END:VEVENT
BEGIN:VEVENT
DTSTART;TZID=UTC:20260331T180000
DTEND;TZID=UTC:20260331T180000
DTSTAMP:20260421T032338
CREATED:20220805T175630Z
LAST-MODIFIED:20220805T175630Z
UID:15916-1774980000-1774980000@selma-al.gov
SUMMARY:City Council Meetings
DESCRIPTION:City Council Meetings are held on the 2nd and 4th Tuesday of the month.
URL:https://selma-al.gov/event/city-council-meetings/2026-03-31/
LOCATION:City Hall\, 222 Broad St\, Selma\, Alabama\, 36701
CATEGORIES:City Council Meetings
ATTACH;FMTTYPE=image/jpeg:https://selma-al.gov/wp-content/uploads/2021/11/cityHall.jpg
END:VEVENT
BEGIN:VEVENT
DTSTART;TZID=UTC:20260326T180000
DTEND;TZID=UTC:20260326T180000
DTSTAMP:20260421T032338
CREATED:20220804T150503Z
LAST-MODIFIED:20220804T150503Z
UID:15915-1774548000-1774548000@selma-al.gov
SUMMARY:City Council Work Sessions
DESCRIPTION:City Council Work Sessions are held every Thursday before the Tuesday Council Meetings.
URL:https://selma-al.gov/event/city-council-work-sessions/2026-03-26/
LOCATION:City Hall\, 222 Broad St\, Selma\, Alabama\, 36701
CATEGORIES:City Council Meetings
ATTACH;FMTTYPE=image/jpeg:https://selma-al.gov/wp-content/uploads/2021/11/cityHall.jpg
END:VEVENT
BEGIN:VEVENT
DTSTART;TZID=UTC:20260317T180000
DTEND;TZID=UTC:20260317T180000
DTSTAMP:20260421T032338
CREATED:20220805T175630Z
LAST-MODIFIED:20220805T175630Z
UID:15914-1773770400-1773770400@selma-al.gov
SUMMARY:City Council Meetings
DESCRIPTION:City Council Meetings are held on the 2nd and 4th Tuesday of the month.
URL:https://selma-al.gov/event/city-council-meetings/2026-03-17/
LOCATION:City Hall\, 222 Broad St\, Selma\, Alabama\, 36701
CATEGORIES:City Council Meetings
ATTACH;FMTTYPE=image/jpeg:https://selma-al.gov/wp-content/uploads/2021/11/cityHall.jpg
END:VEVENT
BEGIN:VEVENT
DTSTART;TZID=UTC:20260312T180000
DTEND;TZID=UTC:20260312T180000
DTSTAMP:20260421T032338
CREATED:20220804T150503Z
LAST-MODIFIED:20220804T150503Z
UID:15913-1773338400-1773338400@selma-al.gov
SUMMARY:City Council Work Sessions
DESCRIPTION:City Council Work Sessions are held every Thursday before the Tuesday Council Meetings.
URL:https://selma-al.gov/event/city-council-work-sessions/2026-03-12/
LOCATION:City Hall\, 222 Broad St\, Selma\, Alabama\, 36701
CATEGORIES:City Council Meetings
ATTACH;FMTTYPE=image/jpeg:https://selma-al.gov/wp-content/uploads/2021/11/cityHall.jpg
END:VEVENT
BEGIN:VEVENT
DTSTART;TZID=UTC:20260303T180000
DTEND;TZID=UTC:20260303T180000
DTSTAMP:20260421T032338
CREATED:20220805T175630Z
LAST-MODIFIED:20220805T175630Z
UID:15904-1772560800-1772560800@selma-al.gov
SUMMARY:City Council Meetings
DESCRIPTION:City Council Meetings are held on the 2nd and 4th Tuesday of the month.
URL:https://selma-al.gov/event/city-council-meetings/2026-03-03/
LOCATION:City Hall\, 222 Broad St\, Selma\, Alabama\, 36701
CATEGORIES:City Council Meetings
ATTACH;FMTTYPE=image/jpeg:https://selma-al.gov/wp-content/uploads/2021/11/cityHall.jpg
END:VEVENT
BEGIN:VEVENT
DTSTART;TZID=UTC:20260226T180000
DTEND;TZID=UTC:20260226T180000
DTSTAMP:20260421T032338
CREATED:20220804T150503Z
LAST-MODIFIED:20220804T150503Z
UID:15902-1772128800-1772128800@selma-al.gov
SUMMARY:City Council Work Sessions
DESCRIPTION:City Council Work Sessions are held every Thursday before the Tuesday Council Meetings.
URL:https://selma-al.gov/event/city-council-work-sessions/2026-02-26/
LOCATION:City Hall\, 222 Broad St\, Selma\, Alabama\, 36701
CATEGORIES:City Council Meetings
ATTACH;FMTTYPE=image/jpeg:https://selma-al.gov/wp-content/uploads/2021/11/cityHall.jpg
END:VEVENT
BEGIN:VEVENT
DTSTART;TZID=UTC:20260217T180000
DTEND;TZID=UTC:20260217T180000
DTSTAMP:20260421T032338
CREATED:20220805T175630Z
LAST-MODIFIED:20220805T175630Z
UID:15900-1771351200-1771351200@selma-al.gov
SUMMARY:City Council Meetings
DESCRIPTION:City Council Meetings are held on the 2nd and 4th Tuesday of the month.
URL:https://selma-al.gov/event/city-council-meetings/2026-02-17/
LOCATION:City Hall\, 222 Broad St\, Selma\, Alabama\, 36701
CATEGORIES:City Council Meetings
ATTACH;FMTTYPE=image/jpeg:https://selma-al.gov/wp-content/uploads/2021/11/cityHall.jpg
END:VEVENT
BEGIN:VEVENT
DTSTART;TZID=UTC:20260212T180000
DTEND;TZID=UTC:20260212T180000
DTSTAMP:20260421T032338
CREATED:20220804T150503Z
LAST-MODIFIED:20220804T150503Z
UID:15521-1770919200-1770919200@selma-al.gov
SUMMARY:City Council Work Sessions
DESCRIPTION:City Council Work Sessions are held every Thursday before the Tuesday Council Meetings.
URL:https://selma-al.gov/event/city-council-work-sessions/2026-02-12/
LOCATION:City Hall\, 222 Broad St\, Selma\, Alabama\, 36701
CATEGORIES:City Council Meetings
ATTACH;FMTTYPE=image/jpeg:https://selma-al.gov/wp-content/uploads/2021/11/cityHall.jpg
END:VEVENT
BEGIN:VEVENT
DTSTART;TZID=UTC:20260203T180000
DTEND;TZID=UTC:20260203T180000
DTSTAMP:20260421T032338
CREATED:20220805T175630Z
LAST-MODIFIED:20220805T175630Z
UID:15507-1770141600-1770141600@selma-al.gov
SUMMARY:City Council Meetings
DESCRIPTION:City Council Meetings are held on the 2nd and 4th Tuesday of the month.
URL:https://selma-al.gov/event/city-council-meetings/2026-02-03/
LOCATION:City Hall\, 222 Broad St\, Selma\, Alabama\, 36701
CATEGORIES:City Council Meetings
ATTACH;FMTTYPE=image/jpeg:https://selma-al.gov/wp-content/uploads/2021/11/cityHall.jpg
END:VEVENT
BEGIN:VEVENT
DTSTART;TZID=UTC:20260129T180000
DTEND;TZID=UTC:20260129T180000
DTSTAMP:20260421T032338
CREATED:20220804T150503Z
LAST-MODIFIED:20220804T150503Z
UID:15502-1769709600-1769709600@selma-al.gov
SUMMARY:City Council Work Sessions
DESCRIPTION:City Council Work Sessions are held every Thursday before the Tuesday Council Meetings.
URL:https://selma-al.gov/event/city-council-work-sessions/2026-01-29/
LOCATION:City Hall\, 222 Broad St\, Selma\, Alabama\, 36701
CATEGORIES:City Council Meetings
ATTACH;FMTTYPE=image/jpeg:https://selma-al.gov/wp-content/uploads/2021/11/cityHall.jpg
END:VEVENT
BEGIN:VEVENT
DTSTART;TZID=UTC:20260120T180000
DTEND;TZID=UTC:20260120T180000
DTSTAMP:20260421T032338
CREATED:20220805T175630Z
LAST-MODIFIED:20220805T175630Z
UID:15500-1768932000-1768932000@selma-al.gov
SUMMARY:City Council Meetings
DESCRIPTION:City Council Meetings are held on the 2nd and 4th Tuesday of the month.
URL:https://selma-al.gov/event/city-council-meetings/2026-01-20/
LOCATION:City Hall\, 222 Broad St\, Selma\, Alabama\, 36701
CATEGORIES:City Council Meetings
ATTACH;FMTTYPE=image/jpeg:https://selma-al.gov/wp-content/uploads/2021/11/cityHall.jpg
END:VEVENT
BEGIN:VEVENT
DTSTART;TZID=UTC:20260115T180000
DTEND;TZID=UTC:20260115T180000
DTSTAMP:20260421T032338
CREATED:20220804T150503Z
LAST-MODIFIED:20220804T150503Z
UID:15499-1768500000-1768500000@selma-al.gov
SUMMARY:City Council Work Sessions
DESCRIPTION:City Council Work Sessions are held every Thursday before the Tuesday Council Meetings.
URL:https://selma-al.gov/event/city-council-work-sessions/2026-01-15/
LOCATION:City Hall\, 222 Broad St\, Selma\, Alabama\, 36701
CATEGORIES:City Council Meetings
ATTACH;FMTTYPE=image/jpeg:https://selma-al.gov/wp-content/uploads/2021/11/cityHall.jpg
END:VEVENT
BEGIN:VEVENT
DTSTART;TZID=UTC:20260106T180000
DTEND;TZID=UTC:20260106T180000
DTSTAMP:20260421T032338
CREATED:20220805T175630Z
LAST-MODIFIED:20220805T175630Z
UID:15498-1767722400-1767722400@selma-al.gov
SUMMARY:City Council Meetings
DESCRIPTION:City Council Meetings are held on the 2nd and 4th Tuesday of the month.
URL:https://selma-al.gov/event/city-council-meetings/2026-01-06/
LOCATION:City Hall\, 222 Broad St\, Selma\, Alabama\, 36701
CATEGORIES:City Council Meetings
ATTACH;FMTTYPE=image/jpeg:https://selma-al.gov/wp-content/uploads/2021/11/cityHall.jpg
END:VEVENT
BEGIN:VEVENT
DTSTART;TZID=UTC:20260101T180000
DTEND;TZID=UTC:20260101T180000
DTSTAMP:20260421T032338
CREATED:20220804T150503Z
LAST-MODIFIED:20220804T150503Z
UID:15497-1767290400-1767290400@selma-al.gov
SUMMARY:City Council Work Sessions
DESCRIPTION:City Council Work Sessions are held every Thursday before the Tuesday Council Meetings.
URL:https://selma-al.gov/event/city-council-work-sessions/2026-01-01/
LOCATION:City Hall\, 222 Broad St\, Selma\, Alabama\, 36701
CATEGORIES:City Council Meetings
ATTACH;FMTTYPE=image/jpeg:https://selma-al.gov/wp-content/uploads/2021/11/cityHall.jpg
END:VEVENT
BEGIN:VEVENT
DTSTART;TZID=UTC:20251223T180000
DTEND;TZID=UTC:20251223T180000
DTSTAMP:20260421T032338
CREATED:20220805T175630Z
LAST-MODIFIED:20220805T175630Z
UID:15264-1766512800-1766512800@selma-al.gov
SUMMARY:City Council Meetings
DESCRIPTION:City Council Meetings are held on the 2nd and 4th Tuesday of the month.
URL:https://selma-al.gov/event/city-council-meetings/2025-12-23/
LOCATION:City Hall\, 222 Broad St\, Selma\, Alabama\, 36701
CATEGORIES:City Council Meetings
ATTACH;FMTTYPE=image/jpeg:https://selma-al.gov/wp-content/uploads/2021/11/cityHall.jpg
END:VEVENT
BEGIN:VEVENT
DTSTART;TZID=UTC:20251218T180000
DTEND;TZID=UTC:20251218T180000
DTSTAMP:20260421T032338
CREATED:20220804T150503Z
LAST-MODIFIED:20220804T150503Z
UID:15263-1766080800-1766080800@selma-al.gov
SUMMARY:City Council Work Sessions
DESCRIPTION:City Council Work Sessions are held every Thursday before the Tuesday Council Meetings.
URL:https://selma-al.gov/event/city-council-work-sessions/2025-12-18/
LOCATION:City Hall\, 222 Broad St\, Selma\, Alabama\, 36701
CATEGORIES:City Council Meetings
ATTACH;FMTTYPE=image/jpeg:https://selma-al.gov/wp-content/uploads/2021/11/cityHall.jpg
END:VEVENT
BEGIN:VEVENT
DTSTART;TZID=UTC:20251209T180000
DTEND;TZID=UTC:20251209T180000
DTSTAMP:20260421T032338
CREATED:20220805T175630Z
LAST-MODIFIED:20220805T175630Z
UID:15262-1765303200-1765303200@selma-al.gov
SUMMARY:City Council Meetings
DESCRIPTION:City Council Meetings are held on the 2nd and 4th Tuesday of the month.
URL:https://selma-al.gov/event/city-council-meetings/2025-12-09/
LOCATION:City Hall\, 222 Broad St\, Selma\, Alabama\, 36701
CATEGORIES:City Council Meetings
ATTACH;FMTTYPE=image/jpeg:https://selma-al.gov/wp-content/uploads/2021/11/cityHall.jpg
END:VEVENT
BEGIN:VEVENT
DTSTART;TZID=UTC:20251204T180000
DTEND;TZID=UTC:20251204T180000
DTSTAMP:20260421T032338
CREATED:20220804T150503Z
LAST-MODIFIED:20220804T150503Z
UID:15260-1764871200-1764871200@selma-al.gov
SUMMARY:City Council Work Sessions
DESCRIPTION:City Council Work Sessions are held every Thursday before the Tuesday Council Meetings.
URL:https://selma-al.gov/event/city-council-work-sessions/2025-12-04/
LOCATION:City Hall\, 222 Broad St\, Selma\, Alabama\, 36701
CATEGORIES:City Council Meetings
ATTACH;FMTTYPE=image/jpeg:https://selma-al.gov/wp-content/uploads/2021/11/cityHall.jpg
END:VEVENT
BEGIN:VEVENT
DTSTART;TZID=UTC:20251125T180000
DTEND;TZID=UTC:20251125T180000
DTSTAMP:20260421T032338
CREATED:20220805T175630Z
LAST-MODIFIED:20220805T175630Z
UID:15257-1764093600-1764093600@selma-al.gov
SUMMARY:City Council Meetings
DESCRIPTION:City Council Meetings are held on the 2nd and 4th Tuesday of the month.
URL:https://selma-al.gov/event/city-council-meetings/2025-11-25/
LOCATION:City Hall\, 222 Broad St\, Selma\, Alabama\, 36701
CATEGORIES:City Council Meetings
ATTACH;FMTTYPE=image/jpeg:https://selma-al.gov/wp-content/uploads/2021/11/cityHall.jpg
END:VEVENT
BEGIN:VEVENT
DTSTART;TZID=UTC:20251120T180000
DTEND;TZID=UTC:20251120T180000
DTSTAMP:20260421T032338
CREATED:20220804T150503Z
LAST-MODIFIED:20220804T150503Z
UID:15255-1763661600-1763661600@selma-al.gov
SUMMARY:City Council Work Sessions
DESCRIPTION:City Council Work Sessions are held every Thursday before the Tuesday Council Meetings.
URL:https://selma-al.gov/event/city-council-work-sessions/2025-11-20/
LOCATION:City Hall\, 222 Broad St\, Selma\, Alabama\, 36701
CATEGORIES:City Council Meetings
ATTACH;FMTTYPE=image/jpeg:https://selma-al.gov/wp-content/uploads/2021/11/cityHall.jpg
END:VEVENT
BEGIN:VEVENT
DTSTART;TZID=UTC:20251111T180000
DTEND;TZID=UTC:20251111T180000
DTSTAMP:20260421T032338
CREATED:20220805T175630Z
LAST-MODIFIED:20220805T175630Z
UID:15250-1762884000-1762884000@selma-al.gov
SUMMARY:City Council Meetings
DESCRIPTION:City Council Meetings are held on the 2nd and 4th Tuesday of the month.
URL:https://selma-al.gov/event/city-council-meetings/2025-11-11/
LOCATION:City Hall\, 222 Broad St\, Selma\, Alabama\, 36701
CATEGORIES:City Council Meetings
ATTACH;FMTTYPE=image/jpeg:https://selma-al.gov/wp-content/uploads/2021/11/cityHall.jpg
END:VEVENT
BEGIN:VEVENT
DTSTART;TZID=UTC:20251106T180000
DTEND;TZID=UTC:20251106T180000
DTSTAMP:20260421T032338
CREATED:20220804T150503Z
LAST-MODIFIED:20220804T150503Z
UID:15249-1762452000-1762452000@selma-al.gov
SUMMARY:City Council Work Sessions
DESCRIPTION:City Council Work Sessions are held every Thursday before the Tuesday Council Meetings.
URL:https://selma-al.gov/event/city-council-work-sessions/2025-11-06/
LOCATION:City Hall\, 222 Broad St\, Selma\, Alabama\, 36701
CATEGORIES:City Council Meetings
ATTACH;FMTTYPE=image/jpeg:https://selma-al.gov/wp-content/uploads/2021/11/cityHall.jpg
END:VEVENT
BEGIN:VEVENT
DTSTART;TZID=UTC:20251028T180000
DTEND;TZID=UTC:20251028T180000
DTSTAMP:20260421T032338
CREATED:20220805T175630Z
LAST-MODIFIED:20220805T175630Z
UID:15237-1761674400-1761674400@selma-al.gov
SUMMARY:City Council Meetings
DESCRIPTION:City Council Meetings are held on the 2nd and 4th Tuesday of the month.
URL:https://selma-al.gov/event/city-council-meetings/2025-10-28/
LOCATION:City Hall\, 222 Broad St\, Selma\, Alabama\, 36701
CATEGORIES:City Council Meetings
ATTACH;FMTTYPE=image/jpeg:https://selma-al.gov/wp-content/uploads/2021/11/cityHall.jpg
END:VEVENT
BEGIN:VEVENT
DTSTART;VALUE=DATE:20251026
DTEND;VALUE=DATE:20251027
DTSTAMP:20260421T032338
CREATED:20250626T165820Z
LAST-MODIFIED:20250626T170247Z
UID:19339-1761436800-1761523199@selma-al.gov
SUMMARY:2025 List of Candidates Qualified For Office – Municipal Election to be Held on August 26th\, 2025
DESCRIPTION:
URL:https://selma-al.gov/event/2025-list-of-candidates-qualified-for-office-municipal-election-to-be-held-on-august-26th-2025/
CATEGORIES:City Council Meetings,City of Selma Events,Municipal Court Schedule
ATTACH;FMTTYPE=image/png:https://selma-al.gov/wp-content/uploads/2021/10/SELMA_NEW_logo-with-border.png
END:VEVENT
BEGIN:VEVENT
DTSTART;TZID=UTC:20251023T180000
DTEND;TZID=UTC:20251023T180000
DTSTAMP:20260421T032338
CREATED:20220804T150503Z
LAST-MODIFIED:20220804T150503Z
UID:15236-1761242400-1761242400@selma-al.gov
SUMMARY:City Council Work Sessions
DESCRIPTION:City Council Work Sessions are held every Thursday before the Tuesday Council Meetings.
URL:https://selma-al.gov/event/city-council-work-sessions/2025-10-23/
LOCATION:City Hall\, 222 Broad St\, Selma\, Alabama\, 36701
CATEGORIES:City Council Meetings
ATTACH;FMTTYPE=image/jpeg:https://selma-al.gov/wp-content/uploads/2021/11/cityHall.jpg
END:VEVENT
BEGIN:VEVENT
DTSTART;TZID=UTC:20251014T180000
DTEND;TZID=UTC:20251014T180000
DTSTAMP:20260421T032338
CREATED:20220805T175630Z
LAST-MODIFIED:20220805T175630Z
UID:15167-1760464800-1760464800@selma-al.gov
SUMMARY:City Council Meetings
DESCRIPTION:City Council Meetings are held on the 2nd and 4th Tuesday of the month.
URL:https://selma-al.gov/event/city-council-meetings/2025-10-14/
LOCATION:City Hall\, 222 Broad St\, Selma\, Alabama\, 36701
CATEGORIES:City Council Meetings
ATTACH;FMTTYPE=image/jpeg:https://selma-al.gov/wp-content/uploads/2021/11/cityHall.jpg
END:VEVENT
BEGIN:VEVENT
DTSTART;TZID=UTC:20251009T180000
DTEND;TZID=UTC:20251009T180000
DTSTAMP:20260421T032338
CREATED:20220804T150503Z
LAST-MODIFIED:20220804T150503Z
UID:15117-1760032800-1760032800@selma-al.gov
SUMMARY:City Council Work Sessions
DESCRIPTION:City Council Work Sessions are held every Thursday before the Tuesday Council Meetings.
URL:https://selma-al.gov/event/city-council-work-sessions/2025-10-09/
LOCATION:City Hall\, 222 Broad St\, Selma\, Alabama\, 36701
CATEGORIES:City Council Meetings
ATTACH;FMTTYPE=image/jpeg:https://selma-al.gov/wp-content/uploads/2021/11/cityHall.jpg
END:VEVENT
BEGIN:VEVENT
DTSTART;TZID=UTC:20250930T180000
DTEND;TZID=UTC:20250930T180000
DTSTAMP:20260421T032338
CREATED:20220805T175630Z
LAST-MODIFIED:20220805T175630Z
UID:15166-1759255200-1759255200@selma-al.gov
SUMMARY:City Council Meetings
DESCRIPTION:City Council Meetings are held on the 2nd and 4th Tuesday of the month.
URL:https://selma-al.gov/event/city-council-meetings/2025-09-30/
LOCATION:City Hall\, 222 Broad St\, Selma\, Alabama\, 36701
CATEGORIES:City Council Meetings
ATTACH;FMTTYPE=image/jpeg:https://selma-al.gov/wp-content/uploads/2021/11/cityHall.jpg
END:VEVENT
END:VCALENDAR