BEGIN:VCALENDAR
VERSION:2.0
PRODID:-//The City of Selma Alabama - ECPv6.15.20//NONSGML v1.0//EN
CALSCALE:GREGORIAN
METHOD:PUBLISH
X-WR-CALNAME:The City of Selma Alabama
X-ORIGINAL-URL:https://selma-al.gov
X-WR-CALDESC:Events for The City of Selma Alabama
REFRESH-INTERVAL;VALUE=DURATION:PT1H
X-Robots-Tag:noindex
X-PUBLISHED-TTL:PT1H
BEGIN:VTIMEZONE
TZID:UTC
BEGIN:STANDARD
TZOFFSETFROM:+0000
TZOFFSETTO:+0000
TZNAME:UTC
DTSTART:20250101T000000
END:STANDARD
END:VTIMEZONE
BEGIN:VEVENT
DTSTART;TZID=UTC:20260331T180000
DTEND;TZID=UTC:20260331T180000
DTSTAMP:20260421T050749
CREATED:20220805T175630Z
LAST-MODIFIED:20220805T175630Z
UID:15916-1774980000-1774980000@selma-al.gov
SUMMARY:City Council Meetings
DESCRIPTION:City Council Meetings are held on the 2nd and 4th Tuesday of the month.
URL:https://selma-al.gov/event/city-council-meetings/2026-03-31/
LOCATION:City Hall\, 222 Broad St\, Selma\, Alabama\, 36701
CATEGORIES:City Council Meetings
ATTACH;FMTTYPE=image/jpeg:https://selma-al.gov/wp-content/uploads/2021/11/cityHall.jpg
END:VEVENT
BEGIN:VEVENT
DTSTART;TZID=UTC:20260409T180000
DTEND;TZID=UTC:20260409T180000
DTSTAMP:20260421T050749
CREATED:20220804T150503Z
LAST-MODIFIED:20220804T150503Z
UID:15957-1775757600-1775757600@selma-al.gov
SUMMARY:City Council Work Sessions
DESCRIPTION:City Council Work Sessions are held every Thursday before the Tuesday Council Meetings.
URL:https://selma-al.gov/event/city-council-work-sessions/2026-04-09/
LOCATION:City Hall\, 222 Broad St\, Selma\, Alabama\, 36701
CATEGORIES:City Council Meetings
ATTACH;FMTTYPE=image/jpeg:https://selma-al.gov/wp-content/uploads/2021/11/cityHall.jpg
END:VEVENT
BEGIN:VEVENT
DTSTART;TZID=UTC:20260414T180000
DTEND;TZID=UTC:20260414T180000
DTSTAMP:20260421T050749
CREATED:20220805T175630Z
LAST-MODIFIED:20220805T175630Z
UID:15958-1776189600-1776189600@selma-al.gov
SUMMARY:City Council Meetings
DESCRIPTION:City Council Meetings are held on the 2nd and 4th Tuesday of the month.
URL:https://selma-al.gov/event/city-council-meetings/2026-04-14/
LOCATION:City Hall\, 222 Broad St\, Selma\, Alabama\, 36701
CATEGORIES:City Council Meetings
ATTACH;FMTTYPE=image/jpeg:https://selma-al.gov/wp-content/uploads/2021/11/cityHall.jpg
END:VEVENT
BEGIN:VEVENT
DTSTART;TZID=UTC:20260423T180000
DTEND;TZID=UTC:20260423T180000
DTSTAMP:20260421T050749
CREATED:20220804T150503Z
LAST-MODIFIED:20220804T150503Z
UID:16029-1776967200-1776967200@selma-al.gov
SUMMARY:City Council Work Sessions
DESCRIPTION:City Council Work Sessions are held every Thursday before the Tuesday Council Meetings.
URL:https://selma-al.gov/event/city-council-work-sessions/2026-04-23/
LOCATION:City Hall\, 222 Broad St\, Selma\, Alabama\, 36701
CATEGORIES:City Council Meetings
ATTACH;FMTTYPE=image/jpeg:https://selma-al.gov/wp-content/uploads/2021/11/cityHall.jpg
END:VEVENT
BEGIN:VEVENT
DTSTART;TZID=UTC:20260428T180000
DTEND;TZID=UTC:20260428T180000
DTSTAMP:20260421T050749
CREATED:20220805T175630Z
LAST-MODIFIED:20220805T175630Z
UID:16039-1777399200-1777399200@selma-al.gov
SUMMARY:City Council Meetings
DESCRIPTION:City Council Meetings are held on the 2nd and 4th Tuesday of the month.
URL:https://selma-al.gov/event/city-council-meetings/2026-04-28/
LOCATION:City Hall\, 222 Broad St\, Selma\, Alabama\, 36701
CATEGORIES:City Council Meetings
ATTACH;FMTTYPE=image/jpeg:https://selma-al.gov/wp-content/uploads/2021/11/cityHall.jpg
END:VEVENT
BEGIN:VEVENT
DTSTART;TZID=UTC:20260507T180000
DTEND;TZID=UTC:20260507T180000
DTSTAMP:20260421T050749
CREATED:20220804T150503Z
LAST-MODIFIED:20220804T150503Z
UID:16057-1778176800-1778176800@selma-al.gov
SUMMARY:City Council Work Sessions
DESCRIPTION:City Council Work Sessions are held every Thursday before the Tuesday Council Meetings.
URL:https://selma-al.gov/event/city-council-work-sessions/2026-05-07/
LOCATION:City Hall\, 222 Broad St\, Selma\, Alabama\, 36701
CATEGORIES:City Council Meetings
ATTACH;FMTTYPE=image/jpeg:https://selma-al.gov/wp-content/uploads/2021/11/cityHall.jpg
END:VEVENT
BEGIN:VEVENT
DTSTART;TZID=UTC:20260512T180000
DTEND;TZID=UTC:20260512T180000
DTSTAMP:20260421T050749
CREATED:20220805T175630Z
LAST-MODIFIED:20220805T175630Z
UID:16058-1778608800-1778608800@selma-al.gov
SUMMARY:City Council Meetings
DESCRIPTION:City Council Meetings are held on the 2nd and 4th Tuesday of the month.
URL:https://selma-al.gov/event/city-council-meetings/2026-05-12/
LOCATION:City Hall\, 222 Broad St\, Selma\, Alabama\, 36701
CATEGORIES:City Council Meetings
ATTACH;FMTTYPE=image/jpeg:https://selma-al.gov/wp-content/uploads/2021/11/cityHall.jpg
END:VEVENT
BEGIN:VEVENT
DTSTART;TZID=UTC:20260521T180000
DTEND;TZID=UTC:20260521T180000
DTSTAMP:20260421T050749
CREATED:20220804T150503Z
LAST-MODIFIED:20220804T150503Z
UID:16059-1779386400-1779386400@selma-al.gov
SUMMARY:City Council Work Sessions
DESCRIPTION:City Council Work Sessions are held every Thursday before the Tuesday Council Meetings.
URL:https://selma-al.gov/event/city-council-work-sessions/2026-05-21/
LOCATION:City Hall\, 222 Broad St\, Selma\, Alabama\, 36701
CATEGORIES:City Council Meetings
ATTACH;FMTTYPE=image/jpeg:https://selma-al.gov/wp-content/uploads/2021/11/cityHall.jpg
END:VEVENT
BEGIN:VEVENT
DTSTART;TZID=UTC:20260526T180000
DTEND;TZID=UTC:20260526T180000
DTSTAMP:20260421T050749
CREATED:20220805T175630Z
LAST-MODIFIED:20220805T175630Z
UID:16060-1779818400-1779818400@selma-al.gov
SUMMARY:City Council Meetings
DESCRIPTION:City Council Meetings are held on the 2nd and 4th Tuesday of the month.
URL:https://selma-al.gov/event/city-council-meetings/2026-05-26/
LOCATION:City Hall\, 222 Broad St\, Selma\, Alabama\, 36701
CATEGORIES:City Council Meetings
ATTACH;FMTTYPE=image/jpeg:https://selma-al.gov/wp-content/uploads/2021/11/cityHall.jpg
END:VEVENT
BEGIN:VEVENT
DTSTART;TZID=UTC:20260604T180000
DTEND;TZID=UTC:20260604T180000
DTSTAMP:20260421T050749
CREATED:20220804T150503Z
LAST-MODIFIED:20220804T150503Z
UID:16106-1780596000-1780596000@selma-al.gov
SUMMARY:City Council Work Sessions
DESCRIPTION:City Council Work Sessions are held every Thursday before the Tuesday Council Meetings.
URL:https://selma-al.gov/event/city-council-work-sessions/2026-06-04/
LOCATION:City Hall\, 222 Broad St\, Selma\, Alabama\, 36701
CATEGORIES:City Council Meetings
ATTACH;FMTTYPE=image/jpeg:https://selma-al.gov/wp-content/uploads/2021/11/cityHall.jpg
END:VEVENT
BEGIN:VEVENT
DTSTART;TZID=UTC:20260609T180000
DTEND;TZID=UTC:20260609T180000
DTSTAMP:20260421T050749
CREATED:20220805T175630Z
LAST-MODIFIED:20220805T175630Z
UID:16107-1781028000-1781028000@selma-al.gov
SUMMARY:City Council Meetings
DESCRIPTION:City Council Meetings are held on the 2nd and 4th Tuesday of the month.
URL:https://selma-al.gov/event/city-council-meetings/2026-06-09/
LOCATION:City Hall\, 222 Broad St\, Selma\, Alabama\, 36701
CATEGORIES:City Council Meetings
ATTACH;FMTTYPE=image/jpeg:https://selma-al.gov/wp-content/uploads/2021/11/cityHall.jpg
END:VEVENT
BEGIN:VEVENT
DTSTART;TZID=UTC:20260618T180000
DTEND;TZID=UTC:20260618T180000
DTSTAMP:20260421T050749
CREATED:20220804T150503Z
LAST-MODIFIED:20220804T150503Z
UID:16330-1781805600-1781805600@selma-al.gov
SUMMARY:City Council Work Sessions
DESCRIPTION:City Council Work Sessions are held every Thursday before the Tuesday Council Meetings.
URL:https://selma-al.gov/event/city-council-work-sessions/2026-06-18/
LOCATION:City Hall\, 222 Broad St\, Selma\, Alabama\, 36701
CATEGORIES:City Council Meetings
ATTACH;FMTTYPE=image/jpeg:https://selma-al.gov/wp-content/uploads/2021/11/cityHall.jpg
END:VEVENT
BEGIN:VEVENT
DTSTART;TZID=UTC:20260623T180000
DTEND;TZID=UTC:20260623T180000
DTSTAMP:20260421T050749
CREATED:20220805T175630Z
LAST-MODIFIED:20220805T175630Z
UID:16331-1782237600-1782237600@selma-al.gov
SUMMARY:City Council Meetings
DESCRIPTION:City Council Meetings are held on the 2nd and 4th Tuesday of the month.
URL:https://selma-al.gov/event/city-council-meetings/2026-06-23/
LOCATION:City Hall\, 222 Broad St\, Selma\, Alabama\, 36701
CATEGORIES:City Council Meetings
ATTACH;FMTTYPE=image/jpeg:https://selma-al.gov/wp-content/uploads/2021/11/cityHall.jpg
END:VEVENT
BEGIN:VEVENT
DTSTART;TZID=UTC:20260702T180000
DTEND;TZID=UTC:20260702T180000
DTSTAMP:20260421T050749
CREATED:20220804T150503Z
LAST-MODIFIED:20220804T150503Z
UID:16334-1783015200-1783015200@selma-al.gov
SUMMARY:City Council Work Sessions
DESCRIPTION:City Council Work Sessions are held every Thursday before the Tuesday Council Meetings.
URL:https://selma-al.gov/event/city-council-work-sessions/2026-07-02/
LOCATION:City Hall\, 222 Broad St\, Selma\, Alabama\, 36701
CATEGORIES:City Council Meetings
ATTACH;FMTTYPE=image/jpeg:https://selma-al.gov/wp-content/uploads/2021/11/cityHall.jpg
END:VEVENT
BEGIN:VEVENT
DTSTART;TZID=UTC:20260707T180000
DTEND;TZID=UTC:20260707T180000
DTSTAMP:20260421T050749
CREATED:20220805T175630Z
LAST-MODIFIED:20220805T175630Z
UID:16335-1783447200-1783447200@selma-al.gov
SUMMARY:City Council Meetings
DESCRIPTION:City Council Meetings are held on the 2nd and 4th Tuesday of the month.
URL:https://selma-al.gov/event/city-council-meetings/2026-07-07/
LOCATION:City Hall\, 222 Broad St\, Selma\, Alabama\, 36701
CATEGORIES:City Council Meetings
ATTACH;FMTTYPE=image/jpeg:https://selma-al.gov/wp-content/uploads/2021/11/cityHall.jpg
END:VEVENT
BEGIN:VEVENT
DTSTART;TZID=UTC:20260716T180000
DTEND;TZID=UTC:20260716T180000
DTSTAMP:20260421T050749
CREATED:20220804T150503Z
LAST-MODIFIED:20220804T150503Z
UID:16344-1784224800-1784224800@selma-al.gov
SUMMARY:City Council Work Sessions
DESCRIPTION:City Council Work Sessions are held every Thursday before the Tuesday Council Meetings.
URL:https://selma-al.gov/event/city-council-work-sessions/2026-07-16/
LOCATION:City Hall\, 222 Broad St\, Selma\, Alabama\, 36701
CATEGORIES:City Council Meetings
ATTACH;FMTTYPE=image/jpeg:https://selma-al.gov/wp-content/uploads/2021/11/cityHall.jpg
END:VEVENT
BEGIN:VEVENT
DTSTART;TZID=UTC:20260721T180000
DTEND;TZID=UTC:20260721T180000
DTSTAMP:20260421T050749
CREATED:20220805T175630Z
LAST-MODIFIED:20220805T175630Z
UID:16351-1784656800-1784656800@selma-al.gov
SUMMARY:City Council Meetings
DESCRIPTION:City Council Meetings are held on the 2nd and 4th Tuesday of the month.
URL:https://selma-al.gov/event/city-council-meetings/2026-07-21/
LOCATION:City Hall\, 222 Broad St\, Selma\, Alabama\, 36701
CATEGORIES:City Council Meetings
ATTACH;FMTTYPE=image/jpeg:https://selma-al.gov/wp-content/uploads/2021/11/cityHall.jpg
END:VEVENT
BEGIN:VEVENT
DTSTART;TZID=UTC:20260730T180000
DTEND;TZID=UTC:20260730T180000
DTSTAMP:20260421T050749
CREATED:20220804T150503Z
LAST-MODIFIED:20220804T150503Z
UID:16352-1785434400-1785434400@selma-al.gov
SUMMARY:City Council Work Sessions
DESCRIPTION:City Council Work Sessions are held every Thursday before the Tuesday Council Meetings.
URL:https://selma-al.gov/event/city-council-work-sessions/2026-07-30/
LOCATION:City Hall\, 222 Broad St\, Selma\, Alabama\, 36701
CATEGORIES:City Council Meetings
ATTACH;FMTTYPE=image/jpeg:https://selma-al.gov/wp-content/uploads/2021/11/cityHall.jpg
END:VEVENT
BEGIN:VEVENT
DTSTART;TZID=UTC:20260804T180000
DTEND;TZID=UTC:20260804T180000
DTSTAMP:20260421T050749
CREATED:20220805T175630Z
LAST-MODIFIED:20220805T175630Z
UID:16364-1785866400-1785866400@selma-al.gov
SUMMARY:City Council Meetings
DESCRIPTION:City Council Meetings are held on the 2nd and 4th Tuesday of the month.
URL:https://selma-al.gov/event/city-council-meetings/2026-08-04/
LOCATION:City Hall\, 222 Broad St\, Selma\, Alabama\, 36701
CATEGORIES:City Council Meetings
ATTACH;FMTTYPE=image/jpeg:https://selma-al.gov/wp-content/uploads/2021/11/cityHall.jpg
END:VEVENT
BEGIN:VEVENT
DTSTART;TZID=UTC:20260813T180000
DTEND;TZID=UTC:20260813T180000
DTSTAMP:20260421T050749
CREATED:20220804T150503Z
LAST-MODIFIED:20220804T150503Z
UID:16544-1786644000-1786644000@selma-al.gov
SUMMARY:City Council Work Sessions
DESCRIPTION:City Council Work Sessions are held every Thursday before the Tuesday Council Meetings.
URL:https://selma-al.gov/event/city-council-work-sessions/2026-08-13/
LOCATION:City Hall\, 222 Broad St\, Selma\, Alabama\, 36701
CATEGORIES:City Council Meetings
ATTACH;FMTTYPE=image/jpeg:https://selma-al.gov/wp-content/uploads/2021/11/cityHall.jpg
END:VEVENT
BEGIN:VEVENT
DTSTART;TZID=UTC:20260818T180000
DTEND;TZID=UTC:20260818T180000
DTSTAMP:20260421T050749
CREATED:20220805T175630Z
LAST-MODIFIED:20220805T175630Z
UID:16545-1787076000-1787076000@selma-al.gov
SUMMARY:City Council Meetings
DESCRIPTION:City Council Meetings are held on the 2nd and 4th Tuesday of the month.
URL:https://selma-al.gov/event/city-council-meetings/2026-08-18/
LOCATION:City Hall\, 222 Broad St\, Selma\, Alabama\, 36701
CATEGORIES:City Council Meetings
ATTACH;FMTTYPE=image/jpeg:https://selma-al.gov/wp-content/uploads/2021/11/cityHall.jpg
END:VEVENT
BEGIN:VEVENT
DTSTART;TZID=UTC:20260827T180000
DTEND;TZID=UTC:20260827T180000
DTSTAMP:20260421T050749
CREATED:20220804T150503Z
LAST-MODIFIED:20220804T150503Z
UID:16547-1787853600-1787853600@selma-al.gov
SUMMARY:City Council Work Sessions
DESCRIPTION:City Council Work Sessions are held every Thursday before the Tuesday Council Meetings.
URL:https://selma-al.gov/event/city-council-work-sessions/2026-08-27/
LOCATION:City Hall\, 222 Broad St\, Selma\, Alabama\, 36701
CATEGORIES:City Council Meetings
ATTACH;FMTTYPE=image/jpeg:https://selma-al.gov/wp-content/uploads/2021/11/cityHall.jpg
END:VEVENT
BEGIN:VEVENT
DTSTART;TZID=UTC:20260901T180000
DTEND;TZID=UTC:20260901T180000
DTSTAMP:20260421T050749
CREATED:20220805T175630Z
LAST-MODIFIED:20220805T175630Z
UID:16548-1788285600-1788285600@selma-al.gov
SUMMARY:City Council Meetings
DESCRIPTION:City Council Meetings are held on the 2nd and 4th Tuesday of the month.
URL:https://selma-al.gov/event/city-council-meetings/2026-09-01/
LOCATION:City Hall\, 222 Broad St\, Selma\, Alabama\, 36701
CATEGORIES:City Council Meetings
ATTACH;FMTTYPE=image/jpeg:https://selma-al.gov/wp-content/uploads/2021/11/cityHall.jpg
END:VEVENT
BEGIN:VEVENT
DTSTART;TZID=UTC:20260910T180000
DTEND;TZID=UTC:20260910T180000
DTSTAMP:20260421T050749
CREATED:20220804T150503Z
LAST-MODIFIED:20220804T150503Z
UID:16575-1789063200-1789063200@selma-al.gov
SUMMARY:City Council Work Sessions
DESCRIPTION:City Council Work Sessions are held every Thursday before the Tuesday Council Meetings.
URL:https://selma-al.gov/event/city-council-work-sessions/2026-09-10/
LOCATION:City Hall\, 222 Broad St\, Selma\, Alabama\, 36701
CATEGORIES:City Council Meetings
ATTACH;FMTTYPE=image/jpeg:https://selma-al.gov/wp-content/uploads/2021/11/cityHall.jpg
END:VEVENT
BEGIN:VEVENT
DTSTART;TZID=UTC:20260915T180000
DTEND;TZID=UTC:20260915T180000
DTSTAMP:20260421T050749
CREATED:20220805T175630Z
LAST-MODIFIED:20220805T175630Z
UID:16576-1789495200-1789495200@selma-al.gov
SUMMARY:City Council Meetings
DESCRIPTION:City Council Meetings are held on the 2nd and 4th Tuesday of the month.
URL:https://selma-al.gov/event/city-council-meetings/2026-09-15/
LOCATION:City Hall\, 222 Broad St\, Selma\, Alabama\, 36701
CATEGORIES:City Council Meetings
ATTACH;FMTTYPE=image/jpeg:https://selma-al.gov/wp-content/uploads/2021/11/cityHall.jpg
END:VEVENT
BEGIN:VEVENT
DTSTART;TZID=UTC:20260924T180000
DTEND;TZID=UTC:20260924T180000
DTSTAMP:20260421T050749
CREATED:20220804T150503Z
LAST-MODIFIED:20220804T150503Z
UID:16588-1790272800-1790272800@selma-al.gov
SUMMARY:City Council Work Sessions
DESCRIPTION:City Council Work Sessions are held every Thursday before the Tuesday Council Meetings.
URL:https://selma-al.gov/event/city-council-work-sessions/2026-09-24/
LOCATION:City Hall\, 222 Broad St\, Selma\, Alabama\, 36701
CATEGORIES:City Council Meetings
ATTACH;FMTTYPE=image/jpeg:https://selma-al.gov/wp-content/uploads/2021/11/cityHall.jpg
END:VEVENT
BEGIN:VEVENT
DTSTART;TZID=UTC:20260929T180000
DTEND;TZID=UTC:20260929T180000
DTSTAMP:20260421T050749
CREATED:20220805T175630Z
LAST-MODIFIED:20220805T175630Z
UID:16589-1790704800-1790704800@selma-al.gov
SUMMARY:City Council Meetings
DESCRIPTION:City Council Meetings are held on the 2nd and 4th Tuesday of the month.
URL:https://selma-al.gov/event/city-council-meetings/2026-09-29/
LOCATION:City Hall\, 222 Broad St\, Selma\, Alabama\, 36701
CATEGORIES:City Council Meetings
ATTACH;FMTTYPE=image/jpeg:https://selma-al.gov/wp-content/uploads/2021/11/cityHall.jpg
END:VEVENT
BEGIN:VEVENT
DTSTART;TZID=UTC:20261008T180000
DTEND;TZID=UTC:20261008T180000
DTSTAMP:20260421T050749
CREATED:20220804T150503Z
LAST-MODIFIED:20220804T150503Z
UID:16605-1791482400-1791482400@selma-al.gov
SUMMARY:City Council Work Sessions
DESCRIPTION:City Council Work Sessions are held every Thursday before the Tuesday Council Meetings.
URL:https://selma-al.gov/event/city-council-work-sessions/2026-10-08/
LOCATION:City Hall\, 222 Broad St\, Selma\, Alabama\, 36701
CATEGORIES:City Council Meetings
ATTACH;FMTTYPE=image/jpeg:https://selma-al.gov/wp-content/uploads/2021/11/cityHall.jpg
END:VEVENT
BEGIN:VEVENT
DTSTART;TZID=UTC:20261013T180000
DTEND;TZID=UTC:20261013T180000
DTSTAMP:20260421T050749
CREATED:20220805T175630Z
LAST-MODIFIED:20220805T175630Z
UID:16606-1791914400-1791914400@selma-al.gov
SUMMARY:City Council Meetings
DESCRIPTION:City Council Meetings are held on the 2nd and 4th Tuesday of the month.
URL:https://selma-al.gov/event/city-council-meetings/2026-10-13/
LOCATION:City Hall\, 222 Broad St\, Selma\, Alabama\, 36701
CATEGORIES:City Council Meetings
ATTACH;FMTTYPE=image/jpeg:https://selma-al.gov/wp-content/uploads/2021/11/cityHall.jpg
END:VEVENT
BEGIN:VEVENT
DTSTART;TZID=UTC:20261022T180000
DTEND;TZID=UTC:20261022T180000
DTSTAMP:20260421T050749
CREATED:20220804T150503Z
LAST-MODIFIED:20220804T150503Z
UID:16607-1792692000-1792692000@selma-al.gov
SUMMARY:City Council Work Sessions
DESCRIPTION:City Council Work Sessions are held every Thursday before the Tuesday Council Meetings.
URL:https://selma-al.gov/event/city-council-work-sessions/2026-10-22/
LOCATION:City Hall\, 222 Broad St\, Selma\, Alabama\, 36701
CATEGORIES:City Council Meetings
ATTACH;FMTTYPE=image/jpeg:https://selma-al.gov/wp-content/uploads/2021/11/cityHall.jpg
END:VEVENT
END:VCALENDAR