BEGIN:VCALENDAR
VERSION:2.0
PRODID:-//The City of Selma Alabama - ECPv6.15.20//NONSGML v1.0//EN
CALSCALE:GREGORIAN
METHOD:PUBLISH
X-WR-CALNAME:The City of Selma Alabama
X-ORIGINAL-URL:https://selma-al.gov
X-WR-CALDESC:Events for The City of Selma Alabama
REFRESH-INTERVAL;VALUE=DURATION:PT1H
X-Robots-Tag:noindex
X-PUBLISHED-TTL:PT1H
BEGIN:VTIMEZONE
TZID:UTC
BEGIN:STANDARD
TZOFFSETFROM:+0000
TZOFFSETTO:+0000
TZNAME:UTC
DTSTART:20210101T000000
END:STANDARD
END:VTIMEZONE
BEGIN:VEVENT
DTSTART;TZID=UTC:20240903T180000
DTEND;TZID=UTC:20240903T180000
DTSTAMP:20260422T004604
CREATED:20220805T175630Z
LAST-MODIFIED:20220805T175630Z
UID:15148-1725386400-1725386400@selma-al.gov
SUMMARY:City Council Meetings
DESCRIPTION:City Council Meetings are held on the 2nd and 4th Tuesday of the month.
URL:https://selma-al.gov/event/city-council-meetings/2024-09-03/
LOCATION:City Hall\, 222 Broad St\, Selma\, Alabama\, 36701
CATEGORIES:City Council Meetings
ATTACH;FMTTYPE=image/jpeg:https://selma-al.gov/wp-content/uploads/2021/11/cityHall.jpg
END:VEVENT
BEGIN:VEVENT
DTSTART;TZID=UTC:20240829T180000
DTEND;TZID=UTC:20240829T180000
DTSTAMP:20260422T004604
CREATED:20220804T150503Z
LAST-MODIFIED:20220804T150503Z
UID:15088-1724954400-1724954400@selma-al.gov
SUMMARY:City Council Work Sessions
DESCRIPTION:City Council Work Sessions are held every Thursday before the Tuesday Council Meetings.
URL:https://selma-al.gov/event/city-council-work-sessions/2024-08-29/
LOCATION:City Hall\, 222 Broad St\, Selma\, Alabama\, 36701
CATEGORIES:City Council Meetings
ATTACH;FMTTYPE=image/jpeg:https://selma-al.gov/wp-content/uploads/2021/11/cityHall.jpg
END:VEVENT
BEGIN:VEVENT
DTSTART;TZID=UTC:20240820T180000
DTEND;TZID=UTC:20240820T180000
DTSTAMP:20260422T004604
CREATED:20220805T175630Z
LAST-MODIFIED:20220805T175630Z
UID:15147-1724176800-1724176800@selma-al.gov
SUMMARY:City Council Meetings
DESCRIPTION:City Council Meetings are held on the 2nd and 4th Tuesday of the month.
URL:https://selma-al.gov/event/city-council-meetings/2024-08-20/
LOCATION:City Hall\, 222 Broad St\, Selma\, Alabama\, 36701
CATEGORIES:City Council Meetings
ATTACH;FMTTYPE=image/jpeg:https://selma-al.gov/wp-content/uploads/2021/11/cityHall.jpg
END:VEVENT
BEGIN:VEVENT
DTSTART;TZID=UTC:20240815T180000
DTEND;TZID=UTC:20240815T180000
DTSTAMP:20260422T004604
CREATED:20220804T150503Z
LAST-MODIFIED:20220804T150503Z
UID:15087-1723744800-1723744800@selma-al.gov
SUMMARY:City Council Work Sessions
DESCRIPTION:City Council Work Sessions are held every Thursday before the Tuesday Council Meetings.
URL:https://selma-al.gov/event/city-council-work-sessions/2024-08-15/
LOCATION:City Hall\, 222 Broad St\, Selma\, Alabama\, 36701
CATEGORIES:City Council Meetings
ATTACH;FMTTYPE=image/jpeg:https://selma-al.gov/wp-content/uploads/2021/11/cityHall.jpg
END:VEVENT
BEGIN:VEVENT
DTSTART;TZID=UTC:20240806T180000
DTEND;TZID=UTC:20240806T180000
DTSTAMP:20260422T004604
CREATED:20220805T175630Z
LAST-MODIFIED:20220805T175630Z
UID:15146-1722967200-1722967200@selma-al.gov
SUMMARY:City Council Meetings
DESCRIPTION:City Council Meetings are held on the 2nd and 4th Tuesday of the month.
URL:https://selma-al.gov/event/city-council-meetings/2024-08-06/
LOCATION:City Hall\, 222 Broad St\, Selma\, Alabama\, 36701
CATEGORIES:City Council Meetings
ATTACH;FMTTYPE=image/jpeg:https://selma-al.gov/wp-content/uploads/2021/11/cityHall.jpg
END:VEVENT
BEGIN:VEVENT
DTSTART;TZID=UTC:20240801T180000
DTEND;TZID=UTC:20240801T180000
DTSTAMP:20260422T004604
CREATED:20220804T150503Z
LAST-MODIFIED:20220804T150503Z
UID:15086-1722535200-1722535200@selma-al.gov
SUMMARY:City Council Work Sessions
DESCRIPTION:City Council Work Sessions are held every Thursday before the Tuesday Council Meetings.
URL:https://selma-al.gov/event/city-council-work-sessions/2024-08-01/
LOCATION:City Hall\, 222 Broad St\, Selma\, Alabama\, 36701
CATEGORIES:City Council Meetings
ATTACH;FMTTYPE=image/jpeg:https://selma-al.gov/wp-content/uploads/2021/11/cityHall.jpg
END:VEVENT
BEGIN:VEVENT
DTSTART;TZID=UTC:20240723T180000
DTEND;TZID=UTC:20240723T180000
DTSTAMP:20260422T004604
CREATED:20220805T175630Z
LAST-MODIFIED:20231010T184650Z
UID:14617-1721757600-1721757600@selma-al.gov
SUMMARY:City Council Meetings
DESCRIPTION:City Council Meetings are held on the 2nd and 4th Tuesday of the month.
URL:https://selma-al.gov/event/city-council-meetings/2024-07-23/
LOCATION:City Hall\, 222 Broad St\, Selma\, Alabama\, 36701
CATEGORIES:City Council Meetings
ATTACH;FMTTYPE=image/jpeg:https://selma-al.gov/wp-content/uploads/2021/11/cityHall.jpg
END:VEVENT
BEGIN:VEVENT
DTSTART;TZID=UTC:20240718T180000
DTEND;TZID=UTC:20240718T180000
DTSTAMP:20260422T004604
CREATED:20220804T150503Z
LAST-MODIFIED:20220804T150503Z
UID:15085-1721325600-1721325600@selma-al.gov
SUMMARY:City Council Work Sessions
DESCRIPTION:City Council Work Sessions are held every Thursday before the Tuesday Council Meetings.
URL:https://selma-al.gov/event/city-council-work-sessions/2024-07-18/
LOCATION:City Hall\, 222 Broad St\, Selma\, Alabama\, 36701
CATEGORIES:City Council Meetings
ATTACH;FMTTYPE=image/jpeg:https://selma-al.gov/wp-content/uploads/2021/11/cityHall.jpg
END:VEVENT
BEGIN:VEVENT
DTSTART;TZID=UTC:20240709T180000
DTEND;TZID=UTC:20240709T180000
DTSTAMP:20260422T004604
CREATED:20220805T175630Z
LAST-MODIFIED:20231010T184650Z
UID:14616-1720548000-1720548000@selma-al.gov
SUMMARY:City Council Meetings
DESCRIPTION:City Council Meetings are held on the 2nd and 4th Tuesday of the month.
URL:https://selma-al.gov/event/city-council-meetings/2024-07-09/
LOCATION:City Hall\, 222 Broad St\, Selma\, Alabama\, 36701
CATEGORIES:City Council Meetings
ATTACH;FMTTYPE=image/jpeg:https://selma-al.gov/wp-content/uploads/2021/11/cityHall.jpg
END:VEVENT
BEGIN:VEVENT
DTSTART;TZID=UTC:20240704T180000
DTEND;TZID=UTC:20240704T180000
DTSTAMP:20260422T004604
CREATED:20220804T150503Z
LAST-MODIFIED:20220804T150503Z
UID:15084-1720116000-1720116000@selma-al.gov
SUMMARY:City Council Work Sessions
DESCRIPTION:City Council Work Sessions are held every Thursday before the Tuesday Council Meetings.
URL:https://selma-al.gov/event/city-council-work-sessions/2024-07-04/
LOCATION:City Hall\, 222 Broad St\, Selma\, Alabama\, 36701
CATEGORIES:City Council Meetings
ATTACH;FMTTYPE=image/jpeg:https://selma-al.gov/wp-content/uploads/2021/11/cityHall.jpg
END:VEVENT
BEGIN:VEVENT
DTSTART;TZID=UTC:20240625T180000
DTEND;TZID=UTC:20240625T180000
DTSTAMP:20260422T004604
CREATED:20220805T175630Z
LAST-MODIFIED:20231010T184649Z
UID:14615-1719338400-1719338400@selma-al.gov
SUMMARY:City Council Meetings
DESCRIPTION:City Council Meetings are held on the 2nd and 4th Tuesday of the month.
URL:https://selma-al.gov/event/city-council-meetings/2024-06-25/
LOCATION:City Hall\, 222 Broad St\, Selma\, Alabama\, 36701
CATEGORIES:City Council Meetings
ATTACH;FMTTYPE=image/jpeg:https://selma-al.gov/wp-content/uploads/2021/11/cityHall.jpg
END:VEVENT
BEGIN:VEVENT
DTSTART;TZID=UTC:20240620T180000
DTEND;TZID=UTC:20240620T180000
DTSTAMP:20260422T004604
CREATED:20220804T150503Z
LAST-MODIFIED:20220804T150503Z
UID:15083-1718906400-1718906400@selma-al.gov
SUMMARY:City Council Work Sessions
DESCRIPTION:City Council Work Sessions are held every Thursday before the Tuesday Council Meetings.
URL:https://selma-al.gov/event/city-council-work-sessions/2024-06-20/
LOCATION:City Hall\, 222 Broad St\, Selma\, Alabama\, 36701
CATEGORIES:City Council Meetings
ATTACH;FMTTYPE=image/jpeg:https://selma-al.gov/wp-content/uploads/2021/11/cityHall.jpg
END:VEVENT
BEGIN:VEVENT
DTSTART;TZID=UTC:20240611T180000
DTEND;TZID=UTC:20240611T180000
DTSTAMP:20260422T004604
CREATED:20220805T175630Z
LAST-MODIFIED:20231010T184649Z
UID:14614-1718128800-1718128800@selma-al.gov
SUMMARY:City Council Meetings
DESCRIPTION:City Council Meetings are held on the 2nd and 4th Tuesday of the month.
URL:https://selma-al.gov/event/city-council-meetings/2024-06-11/
LOCATION:City Hall\, 222 Broad St\, Selma\, Alabama\, 36701
CATEGORIES:City Council Meetings
ATTACH;FMTTYPE=image/jpeg:https://selma-al.gov/wp-content/uploads/2021/11/cityHall.jpg
END:VEVENT
BEGIN:VEVENT
DTSTART;TZID=UTC:20240606T180000
DTEND;TZID=UTC:20240606T180000
DTSTAMP:20260422T004604
CREATED:20220804T150503Z
LAST-MODIFIED:20220804T150503Z
UID:15082-1717696800-1717696800@selma-al.gov
SUMMARY:City Council Work Sessions
DESCRIPTION:City Council Work Sessions are held every Thursday before the Tuesday Council Meetings.
URL:https://selma-al.gov/event/city-council-work-sessions/2024-06-06/
LOCATION:City Hall\, 222 Broad St\, Selma\, Alabama\, 36701
CATEGORIES:City Council Meetings
ATTACH;FMTTYPE=image/jpeg:https://selma-al.gov/wp-content/uploads/2021/11/cityHall.jpg
END:VEVENT
BEGIN:VEVENT
DTSTART;TZID=UTC:20240528T180000
DTEND;TZID=UTC:20240528T180000
DTSTAMP:20260422T004604
CREATED:20220805T175630Z
LAST-MODIFIED:20231010T184647Z
UID:14613-1716919200-1716919200@selma-al.gov
SUMMARY:City Council Meetings
DESCRIPTION:City Council Meetings are held on the 2nd and 4th Tuesday of the month.
URL:https://selma-al.gov/event/city-council-meetings/2024-05-28/
LOCATION:City Hall\, 222 Broad St\, Selma\, Alabama\, 36701
CATEGORIES:City Council Meetings
ATTACH;FMTTYPE=image/jpeg:https://selma-al.gov/wp-content/uploads/2021/11/cityHall.jpg
END:VEVENT
BEGIN:VEVENT
DTSTART;TZID=UTC:20240523T180000
DTEND;TZID=UTC:20240523T180000
DTSTAMP:20260422T004604
CREATED:20220804T150503Z
LAST-MODIFIED:20220804T150503Z
UID:15081-1716487200-1716487200@selma-al.gov
SUMMARY:City Council Work Sessions
DESCRIPTION:City Council Work Sessions are held every Thursday before the Tuesday Council Meetings.
URL:https://selma-al.gov/event/city-council-work-sessions/2024-05-23/
LOCATION:City Hall\, 222 Broad St\, Selma\, Alabama\, 36701
CATEGORIES:City Council Meetings
ATTACH;FMTTYPE=image/jpeg:https://selma-al.gov/wp-content/uploads/2021/11/cityHall.jpg
END:VEVENT
BEGIN:VEVENT
DTSTART;TZID=UTC:20240514T180000
DTEND;TZID=UTC:20240514T180000
DTSTAMP:20260422T004604
CREATED:20220805T175630Z
LAST-MODIFIED:20231010T184647Z
UID:14612-1715709600-1715709600@selma-al.gov
SUMMARY:City Council Meetings
DESCRIPTION:City Council Meetings are held on the 2nd and 4th Tuesday of the month.
URL:https://selma-al.gov/event/city-council-meetings/2024-05-14/
LOCATION:City Hall\, 222 Broad St\, Selma\, Alabama\, 36701
CATEGORIES:City Council Meetings
ATTACH;FMTTYPE=image/jpeg:https://selma-al.gov/wp-content/uploads/2021/11/cityHall.jpg
END:VEVENT
BEGIN:VEVENT
DTSTART;TZID=UTC:20240509T180000
DTEND;TZID=UTC:20240509T180000
DTSTAMP:20260422T004604
CREATED:20220804T150503Z
LAST-MODIFIED:20220804T150503Z
UID:15080-1715277600-1715277600@selma-al.gov
SUMMARY:City Council Work Sessions
DESCRIPTION:City Council Work Sessions are held every Thursday before the Tuesday Council Meetings.
URL:https://selma-al.gov/event/city-council-work-sessions/2024-05-09/
LOCATION:City Hall\, 222 Broad St\, Selma\, Alabama\, 36701
CATEGORIES:City Council Meetings
ATTACH;FMTTYPE=image/jpeg:https://selma-al.gov/wp-content/uploads/2021/11/cityHall.jpg
END:VEVENT
BEGIN:VEVENT
DTSTART;TZID=UTC:20240430T180000
DTEND;TZID=UTC:20240430T180000
DTSTAMP:20260422T004604
CREATED:20220805T175630Z
LAST-MODIFIED:20220805T175630Z
UID:15145-1714500000-1714500000@selma-al.gov
SUMMARY:City Council Meetings
DESCRIPTION:City Council Meetings are held on the 2nd and 4th Tuesday of the month.
URL:https://selma-al.gov/event/city-council-meetings/2024-04-30/
LOCATION:City Hall\, 222 Broad St\, Selma\, Alabama\, 36701
CATEGORIES:City Council Meetings
ATTACH;FMTTYPE=image/jpeg:https://selma-al.gov/wp-content/uploads/2021/11/cityHall.jpg
END:VEVENT
BEGIN:VEVENT
DTSTART;TZID=UTC:20240425T180000
DTEND;TZID=UTC:20240425T180000
DTSTAMP:20260422T004604
CREATED:20220804T150503Z
LAST-MODIFIED:20220804T150503Z
UID:15079-1714068000-1714068000@selma-al.gov
SUMMARY:City Council Work Sessions
DESCRIPTION:City Council Work Sessions are held every Thursday before the Tuesday Council Meetings.
URL:https://selma-al.gov/event/city-council-work-sessions/2024-04-25/
LOCATION:City Hall\, 222 Broad St\, Selma\, Alabama\, 36701
CATEGORIES:City Council Meetings
ATTACH;FMTTYPE=image/jpeg:https://selma-al.gov/wp-content/uploads/2021/11/cityHall.jpg
END:VEVENT
BEGIN:VEVENT
DTSTART;VALUE=DATE:20221222
DTEND;VALUE=DATE:20221223
DTSTAMP:20260422T004604
CREATED:20220804T212807Z
LAST-MODIFIED:20220812T182606Z
UID:9878-1671667200-1671753599@selma-al.gov
SUMMARY:Selma Municipal Court: 9:30am
DESCRIPTION:
URL:https://selma-al.gov/event/selma-municipal-court-2022-18/
LOCATION:Alabama
CATEGORIES:Municipal Court Schedule
ATTACH;FMTTYPE=image/jpeg:https://selma-al.gov/wp-content/uploads/2022/08/Municipal-COurt1.jpeg
END:VEVENT
BEGIN:VEVENT
DTSTART;VALUE=DATE:20221214
DTEND;VALUE=DATE:20221215
DTSTAMP:20260422T004604
CREATED:20220804T212730Z
LAST-MODIFIED:20220812T182616Z
UID:9876-1670976000-1671062399@selma-al.gov
SUMMARY:Selma Municipal Court 9:30am
DESCRIPTION:
URL:https://selma-al.gov/event/selma-municipal-court-2022-17/
LOCATION:Alabama
CATEGORIES:Municipal Court Schedule
ATTACH;FMTTYPE=image/jpeg:https://selma-al.gov/wp-content/uploads/2022/08/Municipal-COurt1.jpeg
END:VEVENT
BEGIN:VEVENT
DTSTART;VALUE=DATE:20221208
DTEND;VALUE=DATE:20221209
DTSTAMP:20260422T004604
CREATED:20220804T212659Z
LAST-MODIFIED:20220812T182633Z
UID:9874-1670457600-1670543999@selma-al.gov
SUMMARY:Selma Municipal Court: 9:30am
DESCRIPTION:
URL:https://selma-al.gov/event/selma-municipal-court-2022-16/
LOCATION:Alabama
CATEGORIES:Municipal Court Schedule
ATTACH;FMTTYPE=image/jpeg:https://selma-al.gov/wp-content/uploads/2022/08/Municipal-COurt1.jpeg
END:VEVENT
BEGIN:VEVENT
DTSTART;TZID=UTC:20221130T130000
DTEND;TZID=UTC:20221130T140000
DTSTAMP:20260422T004604
CREATED:20220804T212559Z
LAST-MODIFIED:20220812T182705Z
UID:9872-1669813200-1669816800@selma-al.gov
SUMMARY:Selma Municipal Court: 1:00 pm
DESCRIPTION:
URL:https://selma-al.gov/event/selma-municipal-court-2022-15/
LOCATION:Alabama
CATEGORIES:Municipal Court Schedule
ATTACH;FMTTYPE=image/jpeg:https://selma-al.gov/wp-content/uploads/2022/08/Municipal-COurt1.jpeg
END:VEVENT
BEGIN:VEVENT
DTSTART;VALUE=DATE:20221117
DTEND;VALUE=DATE:20221118
DTSTAMP:20260422T004604
CREATED:20220804T212531Z
LAST-MODIFIED:20220812T182726Z
UID:9870-1668643200-1668729599@selma-al.gov
SUMMARY:Selma Municipal Court: 9:30am
DESCRIPTION:
URL:https://selma-al.gov/event/selma-municipal-court-2022-14/
LOCATION:Alabama
CATEGORIES:Municipal Court Schedule
ATTACH;FMTTYPE=image/jpeg:https://selma-al.gov/wp-content/uploads/2022/08/Municipal-COurt1.jpeg
END:VEVENT
BEGIN:VEVENT
DTSTART;VALUE=DATE:20221114
DTEND;VALUE=DATE:20221115
DTSTAMP:20260422T004604
CREATED:20220804T212458Z
LAST-MODIFIED:20220812T182746Z
UID:9868-1668384000-1668470399@selma-al.gov
SUMMARY:Selma Municipal Court: 1:00pm
DESCRIPTION:
URL:https://selma-al.gov/event/selma-municipal-court-2022-13/
LOCATION:Alabama
CATEGORIES:Municipal Court Schedule
ATTACH;FMTTYPE=image/jpeg:https://selma-al.gov/wp-content/uploads/2022/08/Municipal-COurt1.jpeg
END:VEVENT
BEGIN:VEVENT
DTSTART;VALUE=DATE:20221103
DTEND;VALUE=DATE:20221104
DTSTAMP:20260422T004604
CREATED:20220804T212423Z
LAST-MODIFIED:20220812T182801Z
UID:9866-1667433600-1667519999@selma-al.gov
SUMMARY:Selma Municipal Court: 9:30am
DESCRIPTION:
URL:https://selma-al.gov/event/selma-municipal-court-2022-12/
LOCATION:Alabama
CATEGORIES:Municipal Court Schedule
ATTACH;FMTTYPE=image/jpeg:https://selma-al.gov/wp-content/uploads/2022/08/Municipal-COurt1.jpeg
END:VEVENT
BEGIN:VEVENT
DTSTART;VALUE=DATE:20221101
DTEND;VALUE=DATE:20230101
DTSTAMP:20260422T004604
CREATED:20220802T170510Z
LAST-MODIFIED:20220802T173023Z
UID:8794-1667260800-1672531199@selma-al.gov
SUMMARY:Paint & Sip
DESCRIPTION:The Parks & Recreation Department of the City of Selma invites all to join us in an evening of painting and other forms of art. \n  \nOur “Paint & Sip” is the perfect leisure program for individuals in our community to enjoy an experience of fun and laughter. \n  \n“Paint & Sip” sessions. This event is located at the George Evans Building. \n  \nEntry Fee $2.00
URL:https://selma-al.gov/event/paint-sip/
LOCATION:George Evans Building\, 2 Lawrence St\, Selma\, Alabama\, 36703
CATEGORIES:Parks & Recreation Wellness Programs
ATTACH;FMTTYPE=image/jpeg:https://selma-al.gov/wp-content/uploads/2022/08/paintsip.jpg
END:VEVENT
BEGIN:VEVENT
DTSTART;VALUE=DATE:20221101
DTEND;VALUE=DATE:20230101
DTSTAMP:20260422T004604
CREATED:20220802T165550Z
LAST-MODIFIED:20220802T173029Z
UID:8790-1667260800-1672531199@selma-al.gov
SUMMARY:Bingo Hall
DESCRIPTION:The City of Selma Parks & Recreation Department invites all to Bingo Hall. \n  \nBingo Hall is a great leisure program to enjoy with family and friends. \n  \nThere will be an abundance of prizes and give-a-ways. \n  \nThe location of this event is the George Evans Building. \n  \nEntry Fee $2.00
URL:https://selma-al.gov/event/bingo-hall/
LOCATION:George Evans Building\, 2 Lawrence St\, Selma\, Alabama\, 36703
CATEGORIES:Parks & Recreation Wellness Programs
ATTACH;FMTTYPE=image/webp:https://selma-al.gov/wp-content/uploads/2022/08/Giveaways.webp
END:VEVENT
BEGIN:VEVENT
DTSTART;TZID=UTC:20221031T150000
DTEND;TZID=UTC:20221031T170000
DTSTAMP:20260422T004604
CREATED:20220805T185057Z
LAST-MODIFIED:20221020T152216Z
UID:10676-1667228400-1667235600@selma-al.gov
SUMMARY:2022 Monster March Oct 31st
DESCRIPTION:
URL:https://selma-al.gov/event/2022-monster-march-oct-31st/
LOCATION:Selma Dallas County Public Library\, 1103 Selma Ave\, Selma\, 36703\, United States
CATEGORIES:City of Selma Events
ATTACH;FMTTYPE=application/pdf:https://selma-al.gov/wp-content/uploads/2022/08/10-2022-monster-march.pdf
END:VEVENT
END:VCALENDAR