BEGIN:VCALENDAR
VERSION:2.0
PRODID:-//The City of Selma Alabama - ECPv6.15.20//NONSGML v1.0//EN
CALSCALE:GREGORIAN
METHOD:PUBLISH
X-ORIGINAL-URL:https://selma-al.gov
X-WR-CALDESC:Events for The City of Selma Alabama
REFRESH-INTERVAL;VALUE=DURATION:PT1H
X-Robots-Tag:noindex
X-PUBLISHED-TTL:PT1H
BEGIN:VTIMEZONE
TZID:UTC
BEGIN:STANDARD
TZOFFSETFROM:+0000
TZOFFSETTO:+0000
TZNAME:UTC
DTSTART:20270101T000000
END:STANDARD
END:VTIMEZONE
BEGIN:VEVENT
DTSTART;TZID=UTC:20280309T180000
DTEND;TZID=UTC:20280309T180000
DTSTAMP:20260421T233642
CREATED:20220804T150503Z
LAST-MODIFIED:20220804T150503Z
UID:20176-1836237600-1836237600@selma-al.gov
SUMMARY:City Council Work Sessions
DESCRIPTION:City Council Work Sessions are held every Thursday before the Tuesday Council Meetings.
URL:https://selma-al.gov/event/city-council-work-sessions/2028-03-09/
LOCATION:City Hall\, 222 Broad St\, Selma\, Alabama\, 36701
CATEGORIES:City Council Meetings
ATTACH;FMTTYPE=image/jpeg:https://selma-al.gov/wp-content/uploads/2021/11/cityHall.jpg
END:VEVENT
BEGIN:VEVENT
DTSTART;TZID=UTC:20280314T180000
DTEND;TZID=UTC:20280314T180000
DTSTAMP:20260421T233642
CREATED:20220805T175630Z
LAST-MODIFIED:20220805T175630Z
UID:20177-1836669600-1836669600@selma-al.gov
SUMMARY:City Council Meetings
DESCRIPTION:City Council Meetings are held on the 2nd and 4th Tuesday of the month.
URL:https://selma-al.gov/event/city-council-meetings/2028-03-14/
LOCATION:City Hall\, 222 Broad St\, Selma\, Alabama\, 36701
CATEGORIES:City Council Meetings
ATTACH;FMTTYPE=image/jpeg:https://selma-al.gov/wp-content/uploads/2021/11/cityHall.jpg
END:VEVENT
BEGIN:VEVENT
DTSTART;TZID=UTC:20280323T180000
DTEND;TZID=UTC:20280323T180000
DTSTAMP:20260421T233642
CREATED:20220804T150503Z
LAST-MODIFIED:20220804T150503Z
UID:20259-1837447200-1837447200@selma-al.gov
SUMMARY:City Council Work Sessions
DESCRIPTION:City Council Work Sessions are held every Thursday before the Tuesday Council Meetings.
URL:https://selma-al.gov/event/city-council-work-sessions/2028-03-23/
LOCATION:City Hall\, 222 Broad St\, Selma\, Alabama\, 36701
CATEGORIES:City Council Meetings
ATTACH;FMTTYPE=image/jpeg:https://selma-al.gov/wp-content/uploads/2021/11/cityHall.jpg
END:VEVENT
BEGIN:VEVENT
DTSTART;TZID=UTC:20280328T180000
DTEND;TZID=UTC:20280328T180000
DTSTAMP:20260421T233642
CREATED:20220805T175630Z
LAST-MODIFIED:20220805T175630Z
UID:20260-1837879200-1837879200@selma-al.gov
SUMMARY:City Council Meetings
DESCRIPTION:City Council Meetings are held on the 2nd and 4th Tuesday of the month.
URL:https://selma-al.gov/event/city-council-meetings/2028-03-28/
LOCATION:City Hall\, 222 Broad St\, Selma\, Alabama\, 36701
CATEGORIES:City Council Meetings
ATTACH;FMTTYPE=image/jpeg:https://selma-al.gov/wp-content/uploads/2021/11/cityHall.jpg
END:VEVENT
BEGIN:VEVENT
DTSTART;TZID=UTC:20280406T180000
DTEND;TZID=UTC:20280406T180000
DTSTAMP:20260421T233642
CREATED:20220804T150503Z
LAST-MODIFIED:20220804T150503Z
UID:20270-1838656800-1838656800@selma-al.gov
SUMMARY:City Council Work Sessions
DESCRIPTION:City Council Work Sessions are held every Thursday before the Tuesday Council Meetings.
URL:https://selma-al.gov/event/city-council-work-sessions/2028-04-06/
LOCATION:City Hall\, 222 Broad St\, Selma\, Alabama\, 36701
CATEGORIES:City Council Meetings
ATTACH;FMTTYPE=image/jpeg:https://selma-al.gov/wp-content/uploads/2021/11/cityHall.jpg
END:VEVENT
BEGIN:VEVENT
DTSTART;TZID=UTC:20280411T180000
DTEND;TZID=UTC:20280411T180000
DTSTAMP:20260421T233642
CREATED:20220805T175630Z
LAST-MODIFIED:20220805T175630Z
UID:20275-1839088800-1839088800@selma-al.gov
SUMMARY:City Council Meetings
DESCRIPTION:City Council Meetings are held on the 2nd and 4th Tuesday of the month.
URL:https://selma-al.gov/event/city-council-meetings/2028-04-11/
LOCATION:City Hall\, 222 Broad St\, Selma\, Alabama\, 36701
CATEGORIES:City Council Meetings
ATTACH;FMTTYPE=image/jpeg:https://selma-al.gov/wp-content/uploads/2021/11/cityHall.jpg
END:VEVENT
BEGIN:VEVENT
DTSTART;TZID=UTC:20280420T180000
DTEND;TZID=UTC:20280420T180000
DTSTAMP:20260421T233642
CREATED:20220804T150503Z
LAST-MODIFIED:20220804T150503Z
UID:20321-1839866400-1839866400@selma-al.gov
SUMMARY:City Council Work Sessions
DESCRIPTION:City Council Work Sessions are held every Thursday before the Tuesday Council Meetings.
URL:https://selma-al.gov/event/city-council-work-sessions/2028-04-20/
LOCATION:City Hall\, 222 Broad St\, Selma\, Alabama\, 36701
CATEGORIES:City Council Meetings
ATTACH;FMTTYPE=image/jpeg:https://selma-al.gov/wp-content/uploads/2021/11/cityHall.jpg
END:VEVENT
END:VCALENDAR