BEGIN:VCALENDAR
VERSION:2.0
PRODID:-//The City of Selma Alabama - ECPv6.15.20//NONSGML v1.0//EN
CALSCALE:GREGORIAN
METHOD:PUBLISH
X-WR-CALNAME:The City of Selma Alabama
X-ORIGINAL-URL:https://selma-al.gov
X-WR-CALDESC:Events for The City of Selma Alabama
REFRESH-INTERVAL;VALUE=DURATION:PT1H
X-Robots-Tag:noindex
X-PUBLISHED-TTL:PT1H
BEGIN:VTIMEZONE
TZID:America/Chicago
BEGIN:DAYLIGHT
TZOFFSETFROM:-0600
TZOFFSETTO:-0500
TZNAME:CDT
DTSTART:20210314T080000
END:DAYLIGHT
BEGIN:STANDARD
TZOFFSETFROM:-0500
TZOFFSETTO:-0600
TZNAME:CST
DTSTART:20211107T070000
END:STANDARD
BEGIN:DAYLIGHT
TZOFFSETFROM:-0600
TZOFFSETTO:-0500
TZNAME:CDT
DTSTART:20220313T080000
END:DAYLIGHT
BEGIN:STANDARD
TZOFFSETFROM:-0500
TZOFFSETTO:-0600
TZNAME:CST
DTSTART:20221106T070000
END:STANDARD
BEGIN:DAYLIGHT
TZOFFSETFROM:-0600
TZOFFSETTO:-0500
TZNAME:CDT
DTSTART:20230312T080000
END:DAYLIGHT
BEGIN:STANDARD
TZOFFSETFROM:-0500
TZOFFSETTO:-0600
TZNAME:CST
DTSTART:20231105T070000
END:STANDARD
END:VTIMEZONE
BEGIN:VEVENT
DTSTART;TZID=America/Chicago:20220318T180000
DTEND;TZID=America/Chicago:20220319T190000
DTSTAMP:20260424T104404
CREATED:20220120T150338Z
LAST-MODIFIED:20220802T154046Z
UID:3228-1647626400-1647716400@selma-al.gov
SUMMARY:Historic Selma Tour of Homes 2022
DESCRIPTION:The Historic Selma Tour of Homes offers visitors a chance to experience hands-on history through guided tours. The Selma Dallas County Historic Preservation Society and the City of Selma are proud…
URL:https://selma-al.gov/event/historic-selma-tour-of-homes-2022/
LOCATION:Vaughan Smitherman Museum\, 109 Union St\, Selma\, AL 36701\, Selma\, AL\, 36701\, United States
CATEGORIES:City of Selma Events
ATTACH;FMTTYPE=image/jpeg:https://selma-al.gov/wp-content/uploads/2022/01/event-homes.jpg
ORGANIZER;CN="Vaughan Smitherman Museum":MAILTO:Support@kmarks-solutions.com
END:VEVENT
END:VCALENDAR