BEGIN:VCALENDAR
VERSION:2.0
PRODID:-//The City of Selma Alabama - ECPv6.15.20//NONSGML v1.0//EN
CALSCALE:GREGORIAN
METHOD:PUBLISH
X-WR-CALNAME:The City of Selma Alabama
X-ORIGINAL-URL:https://selma-al.gov
X-WR-CALDESC:Events for The City of Selma Alabama
REFRESH-INTERVAL;VALUE=DURATION:PT1H
X-Robots-Tag:noindex
X-PUBLISHED-TTL:PT1H
BEGIN:VTIMEZONE
TZID:UTC
BEGIN:STANDARD
TZOFFSETFROM:+0000
TZOFFSETTO:+0000
TZNAME:UTC
DTSTART:20210101T000000
END:STANDARD
END:VTIMEZONE
BEGIN:VTIMEZONE
TZID:America/Chicago
BEGIN:DAYLIGHT
TZOFFSETFROM:-0600
TZOFFSETTO:-0500
TZNAME:CDT
DTSTART:20210314T080000
END:DAYLIGHT
BEGIN:STANDARD
TZOFFSETFROM:-0500
TZOFFSETTO:-0600
TZNAME:CST
DTSTART:20211107T070000
END:STANDARD
BEGIN:DAYLIGHT
TZOFFSETFROM:-0600
TZOFFSETTO:-0500
TZNAME:CDT
DTSTART:20220313T080000
END:DAYLIGHT
BEGIN:STANDARD
TZOFFSETFROM:-0500
TZOFFSETTO:-0600
TZNAME:CST
DTSTART:20221106T070000
END:STANDARD
BEGIN:DAYLIGHT
TZOFFSETFROM:-0600
TZOFFSETTO:-0500
TZNAME:CDT
DTSTART:20230312T080000
END:DAYLIGHT
BEGIN:STANDARD
TZOFFSETFROM:-0500
TZOFFSETTO:-0600
TZNAME:CST
DTSTART:20231105T070000
END:STANDARD
END:VTIMEZONE
BEGIN:VEVENT
DTSTART;TZID=UTC:20220630T170000
DTEND;TZID=UTC:20220630T180000
DTSTAMP:20260424T122908
CREATED:20220629T175743Z
LAST-MODIFIED:20220802T154030Z
UID:7308-1656608400-1656612000@selma-al.gov
SUMMARY:Stars & Stripes Fourth of July Weekend Celebration
DESCRIPTION:Thursday\, June 30th: \n\nOpening of Vendors & Activities\nRed\, White\, & Boom Concert and Karaoke Explosion\nPerformance by: Wilks & Wade and Clinton Babers\nOpening Fireworks Show
URL:https://selma-al.gov/event/fourth-of-july-weekend-celebration/
LOCATION:Alabama
CATEGORIES:City of Selma Events
ATTACH;FMTTYPE=image/jpeg:https://selma-al.gov/wp-content/uploads/2022/06/4th-activities-2.jpg
END:VEVENT
BEGIN:VEVENT
DTSTART;TZID=America/Chicago:20220319T043000
DTEND;TZID=America/Chicago:20220319T163000
DTSTAMP:20260424T122908
CREATED:20220120T151328Z
LAST-MODIFIED:20220802T154035Z
UID:3237-1647664200-1647707400@selma-al.gov
SUMMARY:Selma to Montgomery 51 Mile Relay
DESCRIPTION:The Selma to Montgomery 51 Mile Relay is on Saturday March 19\, 2022. It includes the following events: Selma to Montgomery 51 Mile Relay\, Selma to Montgomery 51 Mile Bike Ride\, Selma to Montgomery…
URL:https://selma-al.gov/event/selma-to-montgomery-51-mile-relay/
LOCATION:Alabama
CATEGORIES:City of Selma Events
ATTACH;FMTTYPE=image/jpeg:https://selma-al.gov/wp-content/uploads/2022/01/SelmaRun.jpg
END:VEVENT
BEGIN:VEVENT
DTSTART;TZID=America/Chicago:20220318T180000
DTEND;TZID=America/Chicago:20220319T190000
DTSTAMP:20260424T122908
CREATED:20220120T150338Z
LAST-MODIFIED:20220802T154046Z
UID:3228-1647626400-1647716400@selma-al.gov
SUMMARY:Historic Selma Tour of Homes 2022
DESCRIPTION:The Historic Selma Tour of Homes offers visitors a chance to experience hands-on history through guided tours. The Selma Dallas County Historic Preservation Society and the City of Selma are proud…
URL:https://selma-al.gov/event/historic-selma-tour-of-homes-2022/
LOCATION:Vaughan Smitherman Museum\, 109 Union St\, Selma\, AL 36701\, Selma\, AL\, 36701\, United States
CATEGORIES:City of Selma Events
ATTACH;FMTTYPE=image/jpeg:https://selma-al.gov/wp-content/uploads/2022/01/event-homes.jpg
ORGANIZER;CN="Vaughan Smitherman Museum":MAILTO:Support@kmarks-solutions.com
END:VEVENT
END:VCALENDAR