BEGIN:VCALENDAR
VERSION:2.0
PRODID:-//The City of Selma Alabama - ECPv6.15.20//NONSGML v1.0//EN
CALSCALE:GREGORIAN
METHOD:PUBLISH
X-ORIGINAL-URL:https://selma-al.gov
X-WR-CALDESC:Events for The City of Selma Alabama
REFRESH-INTERVAL;VALUE=DURATION:PT1H
X-Robots-Tag:noindex
X-PUBLISHED-TTL:PT1H
BEGIN:VTIMEZONE
TZID:UTC
BEGIN:STANDARD
TZOFFSETFROM:+0000
TZOFFSETTO:+0000
TZNAME:UTC
DTSTART:20250101T000000
END:STANDARD
END:VTIMEZONE
BEGIN:VEVENT
DTSTART;TZID=UTC:20260604T180000
DTEND;TZID=UTC:20260604T180000
DTSTAMP:20260421T050649
CREATED:20220804T150503Z
LAST-MODIFIED:20220804T150503Z
UID:16106-1780596000-1780596000@selma-al.gov
SUMMARY:City Council Work Sessions
DESCRIPTION:City Council Work Sessions are held every Thursday before the Tuesday Council Meetings.
URL:https://selma-al.gov/event/city-council-work-sessions/2026-06-04/
LOCATION:City Hall\, 222 Broad St\, Selma\, Alabama\, 36701
CATEGORIES:City Council Meetings
ATTACH;FMTTYPE=image/jpeg:https://selma-al.gov/wp-content/uploads/2021/11/cityHall.jpg
END:VEVENT
BEGIN:VEVENT
DTSTART;TZID=UTC:20260609T180000
DTEND;TZID=UTC:20260609T180000
DTSTAMP:20260421T050649
CREATED:20220805T175630Z
LAST-MODIFIED:20220805T175630Z
UID:16107-1781028000-1781028000@selma-al.gov
SUMMARY:City Council Meetings
DESCRIPTION:City Council Meetings are held on the 2nd and 4th Tuesday of the month.
URL:https://selma-al.gov/event/city-council-meetings/2026-06-09/
LOCATION:City Hall\, 222 Broad St\, Selma\, Alabama\, 36701
CATEGORIES:City Council Meetings
ATTACH;FMTTYPE=image/jpeg:https://selma-al.gov/wp-content/uploads/2021/11/cityHall.jpg
END:VEVENT
BEGIN:VEVENT
DTSTART;TZID=UTC:20260618T180000
DTEND;TZID=UTC:20260618T180000
DTSTAMP:20260421T050649
CREATED:20220804T150503Z
LAST-MODIFIED:20220804T150503Z
UID:16330-1781805600-1781805600@selma-al.gov
SUMMARY:City Council Work Sessions
DESCRIPTION:City Council Work Sessions are held every Thursday before the Tuesday Council Meetings.
URL:https://selma-al.gov/event/city-council-work-sessions/2026-06-18/
LOCATION:City Hall\, 222 Broad St\, Selma\, Alabama\, 36701
CATEGORIES:City Council Meetings
ATTACH;FMTTYPE=image/jpeg:https://selma-al.gov/wp-content/uploads/2021/11/cityHall.jpg
END:VEVENT
BEGIN:VEVENT
DTSTART;TZID=UTC:20260623T180000
DTEND;TZID=UTC:20260623T180000
DTSTAMP:20260421T050649
CREATED:20220805T175630Z
LAST-MODIFIED:20220805T175630Z
UID:16331-1782237600-1782237600@selma-al.gov
SUMMARY:City Council Meetings
DESCRIPTION:City Council Meetings are held on the 2nd and 4th Tuesday of the month.
URL:https://selma-al.gov/event/city-council-meetings/2026-06-23/
LOCATION:City Hall\, 222 Broad St\, Selma\, Alabama\, 36701
CATEGORIES:City Council Meetings
ATTACH;FMTTYPE=image/jpeg:https://selma-al.gov/wp-content/uploads/2021/11/cityHall.jpg
END:VEVENT
END:VCALENDAR